BEGIN:VCALENDAR
VERSION:2.0
PRODID:-//Town of Hancock - ECPv6.15.20//NONSGML v1.0//EN
CALSCALE:GREGORIAN
METHOD:PUBLISH
X-WR-CALNAME:Town of Hancock
X-ORIGINAL-URL:https://townofhancock.org
X-WR-CALDESC:Events for Town of Hancock
REFRESH-INTERVAL;VALUE=DURATION:PT1H
X-Robots-Tag:noindex
X-PUBLISHED-TTL:PT1H
BEGIN:VTIMEZONE
TZID:UTC
BEGIN:STANDARD
TZOFFSETFROM:+0000
TZOFFSETTO:+0000
TZNAME:UTC
DTSTART:20220101T000000
END:STANDARD
END:VTIMEZONE
BEGIN:VTIMEZONE
TZID:America/New_York
BEGIN:DAYLIGHT
TZOFFSETFROM:-0500
TZOFFSETTO:-0400
TZNAME:EDT
DTSTART:20220313T070000
END:DAYLIGHT
BEGIN:STANDARD
TZOFFSETFROM:-0400
TZOFFSETTO:-0500
TZNAME:EST
DTSTART:20221106T060000
END:STANDARD
BEGIN:DAYLIGHT
TZOFFSETFROM:-0500
TZOFFSETTO:-0400
TZNAME:EDT
DTSTART:20230312T070000
END:DAYLIGHT
BEGIN:STANDARD
TZOFFSETFROM:-0400
TZOFFSETTO:-0500
TZNAME:EST
DTSTART:20231105T060000
END:STANDARD
BEGIN:DAYLIGHT
TZOFFSETFROM:-0500
TZOFFSETTO:-0400
TZNAME:EDT
DTSTART:20240310T070000
END:DAYLIGHT
BEGIN:STANDARD
TZOFFSETFROM:-0400
TZOFFSETTO:-0500
TZNAME:EST
DTSTART:20241103T060000
END:STANDARD
END:VTIMEZONE
BEGIN:VEVENT
DTSTART;TZID=UTC:20231107T180000
DTEND;TZID=UTC:20231107T200000
DTSTAMP:20260419T101701
CREATED:20220913T204825Z
LAST-MODIFIED:20220913T204825Z
UID:10000277-1699380000-1699387200@townofhancock.org
SUMMARY:Planning Commission Meeting
DESCRIPTION:
URL:https://townofhancock.org/event/planning-commission-meeting/2023-11-07/
END:VEVENT
BEGIN:VEVENT
DTSTART;VALUE=DATE:20231101
DTEND;VALUE=DATE:20231102
DTSTAMP:20260419T101701
CREATED:20220913T204453Z
LAST-MODIFIED:20241227T173632Z
UID:10000031-1698796800-1698883199@townofhancock.org
SUMMARY:Trash Pick Up
DESCRIPTION:Trash/Recycling collection is weekly.  Your collection day is either Wednesday or Friday.  If you are unsure\, please call Burgmeier’s Trash Collection (800-491-8975). \nOBSERVED HOLIDAYS: New Year’s Day\, Memorial Day\, July 4th\, Labor Day\, Thanksgiving Day and Christmas Day – No Pickup.
URL:https://townofhancock.org/event/trash-pick-up-2/2023-11-01/
END:VEVENT
BEGIN:VEVENT
DTSTART;VALUE=DATE:20231025
DTEND;VALUE=DATE:20231026
DTSTAMP:20260419T101701
CREATED:20220913T204613Z
LAST-MODIFIED:20241227T170934Z
UID:10000161-1698192000-1698278399@townofhancock.org
SUMMARY:Recycling Co-Mingled
DESCRIPTION:Co-mingling Recycling\n\nConsists of a mixture of glass (all colors)\, plastics (#1 & #2)\, and common consumer metals such as aluminum and tin cans.
URL:https://townofhancock.org/event/recycling-pick-up/2023-10-25/
END:VEVENT
BEGIN:VEVENT
DTSTART;VALUE=DATE:20231025
DTEND;VALUE=DATE:20231026
DTSTAMP:20260419T101701
CREATED:20220913T204453Z
LAST-MODIFIED:20241227T173632Z
UID:10000484-1698192000-1698278399@townofhancock.org
SUMMARY:Trash Pick Up
DESCRIPTION:Trash/Recycling collection is weekly.  Your collection day is either Wednesday or Friday.  If you are unsure\, please call Burgmeier’s Trash Collection (800-491-8975). \nOBSERVED HOLIDAYS: New Year’s Day\, Memorial Day\, July 4th\, Labor Day\, Thanksgiving Day and Christmas Day – No Pickup.
URL:https://townofhancock.org/event/trash-pick-up-2/2023-10-25/
END:VEVENT
BEGIN:VEVENT
DTSTART;VALUE=DATE:20231018
DTEND;VALUE=DATE:20231019
DTSTAMP:20260419T101701
CREATED:20220913T204453Z
LAST-MODIFIED:20241227T173632Z
UID:10000030-1697587200-1697673599@townofhancock.org
SUMMARY:Trash Pick Up
DESCRIPTION:Trash/Recycling collection is weekly.  Your collection day is either Wednesday or Friday.  If you are unsure\, please call Burgmeier’s Trash Collection (800-491-8975). \nOBSERVED HOLIDAYS: New Year’s Day\, Memorial Day\, July 4th\, Labor Day\, Thanksgiving Day and Christmas Day – No Pickup.
URL:https://townofhancock.org/event/trash-pick-up-2/2023-10-18/
END:VEVENT
BEGIN:VEVENT
DTSTART;VALUE=DATE:20231011
DTEND;VALUE=DATE:20231012
DTSTAMP:20260419T101701
CREATED:20220913T204613Z
LAST-MODIFIED:20241227T170934Z
UID:10000160-1696982400-1697068799@townofhancock.org
SUMMARY:Recycling Co-Mingled
DESCRIPTION:Co-mingling Recycling\n\nConsists of a mixture of glass (all colors)\, plastics (#1 & #2)\, and common consumer metals such as aluminum and tin cans.
URL:https://townofhancock.org/event/recycling-pick-up/2023-10-11/
END:VEVENT
BEGIN:VEVENT
DTSTART;VALUE=DATE:20231011
DTEND;VALUE=DATE:20231012
DTSTAMP:20260419T101701
CREATED:20220913T204453Z
LAST-MODIFIED:20241227T173632Z
UID:10000483-1696982400-1697068799@townofhancock.org
SUMMARY:Trash Pick Up
DESCRIPTION:Trash/Recycling collection is weekly.  Your collection day is either Wednesday or Friday.  If you are unsure\, please call Burgmeier’s Trash Collection (800-491-8975). \nOBSERVED HOLIDAYS: New Year’s Day\, Memorial Day\, July 4th\, Labor Day\, Thanksgiving Day and Christmas Day – No Pickup.
URL:https://townofhancock.org/event/trash-pick-up-2/2023-10-11/
END:VEVENT
BEGIN:VEVENT
DTSTART;VALUE=DATE:20231004
DTEND;VALUE=DATE:20231005
DTSTAMP:20260419T101701
CREATED:20220913T204453Z
LAST-MODIFIED:20241227T173632Z
UID:10000029-1696377600-1696463999@townofhancock.org
SUMMARY:Trash Pick Up
DESCRIPTION:Trash/Recycling collection is weekly.  Your collection day is either Wednesday or Friday.  If you are unsure\, please call Burgmeier’s Trash Collection (800-491-8975). \nOBSERVED HOLIDAYS: New Year’s Day\, Memorial Day\, July 4th\, Labor Day\, Thanksgiving Day and Christmas Day – No Pickup.
URL:https://townofhancock.org/event/trash-pick-up-2/2023-10-04/
END:VEVENT
BEGIN:VEVENT
DTSTART;TZID=UTC:20231003T180000
DTEND;TZID=UTC:20231003T200000
DTSTAMP:20260419T101701
CREATED:20220913T204825Z
LAST-MODIFIED:20220913T204825Z
UID:10000276-1696356000-1696363200@townofhancock.org
SUMMARY:Planning Commission Meeting
DESCRIPTION:
URL:https://townofhancock.org/event/planning-commission-meeting/2023-10-03/
END:VEVENT
BEGIN:VEVENT
DTSTART;VALUE=DATE:20230927
DTEND;VALUE=DATE:20230928
DTSTAMP:20260419T101701
CREATED:20220913T204613Z
LAST-MODIFIED:20241227T170934Z
UID:10000159-1695772800-1695859199@townofhancock.org
SUMMARY:Recycling Co-Mingled
DESCRIPTION:Co-mingling Recycling\n\nConsists of a mixture of glass (all colors)\, plastics (#1 & #2)\, and common consumer metals such as aluminum and tin cans.
URL:https://townofhancock.org/event/recycling-pick-up/2023-09-27/
END:VEVENT
BEGIN:VEVENT
DTSTART;VALUE=DATE:20230927
DTEND;VALUE=DATE:20230928
DTSTAMP:20260419T101701
CREATED:20220913T204453Z
LAST-MODIFIED:20241227T173632Z
UID:10000482-1695772800-1695859199@townofhancock.org
SUMMARY:Trash Pick Up
DESCRIPTION:Trash/Recycling collection is weekly.  Your collection day is either Wednesday or Friday.  If you are unsure\, please call Burgmeier’s Trash Collection (800-491-8975). \nOBSERVED HOLIDAYS: New Year’s Day\, Memorial Day\, July 4th\, Labor Day\, Thanksgiving Day and Christmas Day – No Pickup.
URL:https://townofhancock.org/event/trash-pick-up-2/2023-09-27/
END:VEVENT
BEGIN:VEVENT
DTSTART;VALUE=DATE:20230920
DTEND;VALUE=DATE:20230921
DTSTAMP:20260419T101701
CREATED:20220913T204453Z
LAST-MODIFIED:20241227T173632Z
UID:10000028-1695168000-1695254399@townofhancock.org
SUMMARY:Trash Pick Up
DESCRIPTION:Trash/Recycling collection is weekly.  Your collection day is either Wednesday or Friday.  If you are unsure\, please call Burgmeier’s Trash Collection (800-491-8975). \nOBSERVED HOLIDAYS: New Year’s Day\, Memorial Day\, July 4th\, Labor Day\, Thanksgiving Day and Christmas Day – No Pickup.
URL:https://townofhancock.org/event/trash-pick-up-2/2023-09-20/
END:VEVENT
BEGIN:VEVENT
DTSTART;VALUE=DATE:20230913
DTEND;VALUE=DATE:20230914
DTSTAMP:20260419T101701
CREATED:20220913T204613Z
LAST-MODIFIED:20241227T170934Z
UID:10000158-1694563200-1694649599@townofhancock.org
SUMMARY:Recycling Co-Mingled
DESCRIPTION:Co-mingling Recycling\n\nConsists of a mixture of glass (all colors)\, plastics (#1 & #2)\, and common consumer metals such as aluminum and tin cans.
URL:https://townofhancock.org/event/recycling-pick-up/2023-09-13/
END:VEVENT
BEGIN:VEVENT
DTSTART;VALUE=DATE:20230913
DTEND;VALUE=DATE:20230914
DTSTAMP:20260419T101701
CREATED:20220913T204453Z
LAST-MODIFIED:20241227T173632Z
UID:10000481-1694563200-1694649599@townofhancock.org
SUMMARY:Trash Pick Up
DESCRIPTION:Trash/Recycling collection is weekly.  Your collection day is either Wednesday or Friday.  If you are unsure\, please call Burgmeier’s Trash Collection (800-491-8975). \nOBSERVED HOLIDAYS: New Year’s Day\, Memorial Day\, July 4th\, Labor Day\, Thanksgiving Day and Christmas Day – No Pickup.
URL:https://townofhancock.org/event/trash-pick-up-2/2023-09-13/
END:VEVENT
BEGIN:VEVENT
DTSTART;VALUE=DATE:20230906
DTEND;VALUE=DATE:20230907
DTSTAMP:20260419T101701
CREATED:20220913T204453Z
LAST-MODIFIED:20241227T173632Z
UID:10000027-1693958400-1694044799@townofhancock.org
SUMMARY:Trash Pick Up
DESCRIPTION:Trash/Recycling collection is weekly.  Your collection day is either Wednesday or Friday.  If you are unsure\, please call Burgmeier’s Trash Collection (800-491-8975). \nOBSERVED HOLIDAYS: New Year’s Day\, Memorial Day\, July 4th\, Labor Day\, Thanksgiving Day and Christmas Day – No Pickup.
URL:https://townofhancock.org/event/trash-pick-up-2/2023-09-06/
END:VEVENT
BEGIN:VEVENT
DTSTART;TZID=UTC:20230905T180000
DTEND;TZID=UTC:20230905T200000
DTSTAMP:20260419T101701
CREATED:20220913T204825Z
LAST-MODIFIED:20220913T204825Z
UID:10000275-1693936800-1693944000@townofhancock.org
SUMMARY:Planning Commission Meeting
DESCRIPTION:
URL:https://townofhancock.org/event/planning-commission-meeting/2023-09-05/
END:VEVENT
BEGIN:VEVENT
DTSTART;VALUE=DATE:20230830
DTEND;VALUE=DATE:20230831
DTSTAMP:20260419T101701
CREATED:20220913T204613Z
LAST-MODIFIED:20241227T170934Z
UID:10000157-1693353600-1693439999@townofhancock.org
SUMMARY:Recycling Co-Mingled
DESCRIPTION:Co-mingling Recycling\n\nConsists of a mixture of glass (all colors)\, plastics (#1 & #2)\, and common consumer metals such as aluminum and tin cans.
URL:https://townofhancock.org/event/recycling-pick-up/2023-08-30/
END:VEVENT
BEGIN:VEVENT
DTSTART;VALUE=DATE:20230830
DTEND;VALUE=DATE:20230831
DTSTAMP:20260419T101701
CREATED:20220913T204453Z
LAST-MODIFIED:20241227T173632Z
UID:10000480-1693353600-1693439999@townofhancock.org
SUMMARY:Trash Pick Up
DESCRIPTION:Trash/Recycling collection is weekly.  Your collection day is either Wednesday or Friday.  If you are unsure\, please call Burgmeier’s Trash Collection (800-491-8975). \nOBSERVED HOLIDAYS: New Year’s Day\, Memorial Day\, July 4th\, Labor Day\, Thanksgiving Day and Christmas Day – No Pickup.
URL:https://townofhancock.org/event/trash-pick-up-2/2023-08-30/
END:VEVENT
BEGIN:VEVENT
DTSTART;VALUE=DATE:20230823
DTEND;VALUE=DATE:20230824
DTSTAMP:20260419T101701
CREATED:20220913T204453Z
LAST-MODIFIED:20241227T173632Z
UID:10000026-1692748800-1692835199@townofhancock.org
SUMMARY:Trash Pick Up
DESCRIPTION:Trash/Recycling collection is weekly.  Your collection day is either Wednesday or Friday.  If you are unsure\, please call Burgmeier’s Trash Collection (800-491-8975). \nOBSERVED HOLIDAYS: New Year’s Day\, Memorial Day\, July 4th\, Labor Day\, Thanksgiving Day and Christmas Day – No Pickup.
URL:https://townofhancock.org/event/trash-pick-up-2/2023-08-23/
END:VEVENT
BEGIN:VEVENT
DTSTART;VALUE=DATE:20230816
DTEND;VALUE=DATE:20230817
DTSTAMP:20260419T101701
CREATED:20220913T204613Z
LAST-MODIFIED:20241227T170934Z
UID:10000156-1692144000-1692230399@townofhancock.org
SUMMARY:Recycling Co-Mingled
DESCRIPTION:Co-mingling Recycling\n\nConsists of a mixture of glass (all colors)\, plastics (#1 & #2)\, and common consumer metals such as aluminum and tin cans.
URL:https://townofhancock.org/event/recycling-pick-up/2023-08-16/
END:VEVENT
BEGIN:VEVENT
DTSTART;VALUE=DATE:20230816
DTEND;VALUE=DATE:20230817
DTSTAMP:20260419T101701
CREATED:20220913T204453Z
LAST-MODIFIED:20241227T173632Z
UID:10000479-1692144000-1692230399@townofhancock.org
SUMMARY:Trash Pick Up
DESCRIPTION:Trash/Recycling collection is weekly.  Your collection day is either Wednesday or Friday.  If you are unsure\, please call Burgmeier’s Trash Collection (800-491-8975). \nOBSERVED HOLIDAYS: New Year’s Day\, Memorial Day\, July 4th\, Labor Day\, Thanksgiving Day and Christmas Day – No Pickup.
URL:https://townofhancock.org/event/trash-pick-up-2/2023-08-16/
END:VEVENT
BEGIN:VEVENT
DTSTART;VALUE=DATE:20230809
DTEND;VALUE=DATE:20230810
DTSTAMP:20260419T101701
CREATED:20220913T204453Z
LAST-MODIFIED:20241227T173632Z
UID:10000025-1691539200-1691625599@townofhancock.org
SUMMARY:Trash Pick Up
DESCRIPTION:Trash/Recycling collection is weekly.  Your collection day is either Wednesday or Friday.  If you are unsure\, please call Burgmeier’s Trash Collection (800-491-8975). \nOBSERVED HOLIDAYS: New Year’s Day\, Memorial Day\, July 4th\, Labor Day\, Thanksgiving Day and Christmas Day – No Pickup.
URL:https://townofhancock.org/event/trash-pick-up-2/2023-08-09/
END:VEVENT
BEGIN:VEVENT
DTSTART;VALUE=DATE:20230802
DTEND;VALUE=DATE:20230803
DTSTAMP:20260419T101701
CREATED:20220913T204613Z
LAST-MODIFIED:20241227T170934Z
UID:10000155-1690934400-1691020799@townofhancock.org
SUMMARY:Recycling Co-Mingled
DESCRIPTION:Co-mingling Recycling\n\nConsists of a mixture of glass (all colors)\, plastics (#1 & #2)\, and common consumer metals such as aluminum and tin cans.
URL:https://townofhancock.org/event/recycling-pick-up/2023-08-02/
END:VEVENT
BEGIN:VEVENT
DTSTART;VALUE=DATE:20230802
DTEND;VALUE=DATE:20230803
DTSTAMP:20260419T101701
CREATED:20220913T204453Z
LAST-MODIFIED:20241227T173632Z
UID:10000478-1690934400-1691020799@townofhancock.org
SUMMARY:Trash Pick Up
DESCRIPTION:Trash/Recycling collection is weekly.  Your collection day is either Wednesday or Friday.  If you are unsure\, please call Burgmeier’s Trash Collection (800-491-8975). \nOBSERVED HOLIDAYS: New Year’s Day\, Memorial Day\, July 4th\, Labor Day\, Thanksgiving Day and Christmas Day – No Pickup.
URL:https://townofhancock.org/event/trash-pick-up-2/2023-08-02/
END:VEVENT
BEGIN:VEVENT
DTSTART;TZID=UTC:20230801T180000
DTEND;TZID=UTC:20230801T200000
DTSTAMP:20260419T101701
CREATED:20220913T204825Z
LAST-MODIFIED:20220913T204825Z
UID:10000274-1690912800-1690920000@townofhancock.org
SUMMARY:Planning Commission Meeting
DESCRIPTION:
URL:https://townofhancock.org/event/planning-commission-meeting/2023-08-01/
END:VEVENT
BEGIN:VEVENT
DTSTART;VALUE=DATE:20230726
DTEND;VALUE=DATE:20230727
DTSTAMP:20260419T101701
CREATED:20220913T204453Z
LAST-MODIFIED:20241227T173632Z
UID:10000024-1690329600-1690415999@townofhancock.org
SUMMARY:Trash Pick Up
DESCRIPTION:Trash/Recycling collection is weekly.  Your collection day is either Wednesday or Friday.  If you are unsure\, please call Burgmeier’s Trash Collection (800-491-8975). \nOBSERVED HOLIDAYS: New Year’s Day\, Memorial Day\, July 4th\, Labor Day\, Thanksgiving Day and Christmas Day – No Pickup.
URL:https://townofhancock.org/event/trash-pick-up-2/2023-07-26/
END:VEVENT
BEGIN:VEVENT
DTSTART;VALUE=DATE:20230719
DTEND;VALUE=DATE:20230720
DTSTAMP:20260419T101701
CREATED:20220913T204613Z
LAST-MODIFIED:20241227T170934Z
UID:10000154-1689724800-1689811199@townofhancock.org
SUMMARY:Recycling Co-Mingled
DESCRIPTION:Co-mingling Recycling\n\nConsists of a mixture of glass (all colors)\, plastics (#1 & #2)\, and common consumer metals such as aluminum and tin cans.
URL:https://townofhancock.org/event/recycling-pick-up/2023-07-19/
END:VEVENT
BEGIN:VEVENT
DTSTART;VALUE=DATE:20230719
DTEND;VALUE=DATE:20230720
DTSTAMP:20260419T101701
CREATED:20220913T204453Z
LAST-MODIFIED:20241227T173632Z
UID:10000477-1689724800-1689811199@townofhancock.org
SUMMARY:Trash Pick Up
DESCRIPTION:Trash/Recycling collection is weekly.  Your collection day is either Wednesday or Friday.  If you are unsure\, please call Burgmeier’s Trash Collection (800-491-8975). \nOBSERVED HOLIDAYS: New Year’s Day\, Memorial Day\, July 4th\, Labor Day\, Thanksgiving Day and Christmas Day – No Pickup.
URL:https://townofhancock.org/event/trash-pick-up-2/2023-07-19/
END:VEVENT
BEGIN:VEVENT
DTSTART;VALUE=DATE:20230712
DTEND;VALUE=DATE:20230713
DTSTAMP:20260419T101701
CREATED:20220913T204453Z
LAST-MODIFIED:20241227T173632Z
UID:10000023-1689120000-1689206399@townofhancock.org
SUMMARY:Trash Pick Up
DESCRIPTION:Trash/Recycling collection is weekly.  Your collection day is either Wednesday or Friday.  If you are unsure\, please call Burgmeier’s Trash Collection (800-491-8975). \nOBSERVED HOLIDAYS: New Year’s Day\, Memorial Day\, July 4th\, Labor Day\, Thanksgiving Day and Christmas Day – No Pickup.
URL:https://townofhancock.org/event/trash-pick-up-2/2023-07-12/
END:VEVENT
BEGIN:VEVENT
DTSTART;VALUE=DATE:20230705
DTEND;VALUE=DATE:20230706
DTSTAMP:20260419T101701
CREATED:20220913T204613Z
LAST-MODIFIED:20241227T170934Z
UID:10000153-1688515200-1688601599@townofhancock.org
SUMMARY:Recycling Co-Mingled
DESCRIPTION:Co-mingling Recycling\n\nConsists of a mixture of glass (all colors)\, plastics (#1 & #2)\, and common consumer metals such as aluminum and tin cans.
URL:https://townofhancock.org/event/recycling-pick-up/2023-07-05/
END:VEVENT
END:VCALENDAR