BEGIN:VCALENDAR
VERSION:2.0
PRODID:-//Town of Hancock - ECPv6.15.20//NONSGML v1.0//EN
CALSCALE:GREGORIAN
METHOD:PUBLISH
X-WR-CALNAME:Town of Hancock
X-ORIGINAL-URL:https://townofhancock.org
X-WR-CALDESC:Events for Town of Hancock
REFRESH-INTERVAL;VALUE=DURATION:PT1H
X-Robots-Tag:noindex
X-PUBLISHED-TTL:PT1H
BEGIN:VTIMEZONE
TZID:America/New_York
BEGIN:DAYLIGHT
TZOFFSETFROM:-0500
TZOFFSETTO:-0400
TZNAME:EDT
DTSTART:20270314T070000
END:DAYLIGHT
BEGIN:STANDARD
TZOFFSETFROM:-0400
TZOFFSETTO:-0500
TZNAME:EST
DTSTART:20271107T060000
END:STANDARD
BEGIN:DAYLIGHT
TZOFFSETFROM:-0500
TZOFFSETTO:-0400
TZNAME:EDT
DTSTART:20280312T070000
END:DAYLIGHT
BEGIN:STANDARD
TZOFFSETFROM:-0400
TZOFFSETTO:-0500
TZNAME:EST
DTSTART:20281105T060000
END:STANDARD
BEGIN:DAYLIGHT
TZOFFSETFROM:-0500
TZOFFSETTO:-0400
TZNAME:EDT
DTSTART:20290311T070000
END:DAYLIGHT
BEGIN:STANDARD
TZOFFSETFROM:-0400
TZOFFSETTO:-0500
TZNAME:EST
DTSTART:20291104T060000
END:STANDARD
BEGIN:DAYLIGHT
TZOFFSETFROM:-0500
TZOFFSETTO:-0400
TZNAME:EDT
DTSTART:20300310T070000
END:DAYLIGHT
BEGIN:STANDARD
TZOFFSETFROM:-0400
TZOFFSETTO:-0500
TZNAME:EST
DTSTART:20301103T060000
END:STANDARD
END:VTIMEZONE
BEGIN:VTIMEZONE
TZID:America/New_York
BEGIN:DAYLIGHT
TZOFFSETFROM:-0500
TZOFFSETTO:-0400
TZNAME:EDT
DTSTART:20270314T070000
END:DAYLIGHT
BEGIN:STANDARD
TZOFFSETFROM:-0400
TZOFFSETTO:-0500
TZNAME:EST
DTSTART:20271107T060000
END:STANDARD
BEGIN:DAYLIGHT
TZOFFSETFROM:-0500
TZOFFSETTO:-0400
TZNAME:EDT
DTSTART:20280312T070000
END:DAYLIGHT
BEGIN:STANDARD
TZOFFSETFROM:-0400
TZOFFSETTO:-0500
TZNAME:EST
DTSTART:20281105T060000
END:STANDARD
BEGIN:DAYLIGHT
TZOFFSETFROM:-0500
TZOFFSETTO:-0400
TZNAME:EDT
DTSTART:20290311T070000
END:DAYLIGHT
BEGIN:STANDARD
TZOFFSETFROM:-0400
TZOFFSETTO:-0500
TZNAME:EST
DTSTART:20291104T060000
END:STANDARD
BEGIN:DAYLIGHT
TZOFFSETFROM:-0500
TZOFFSETTO:-0400
TZNAME:EDT
DTSTART:20300310T070000
END:DAYLIGHT
BEGIN:STANDARD
TZOFFSETFROM:-0400
TZOFFSETTO:-0500
TZNAME:EST
DTSTART:20301103T060000
END:STANDARD
END:VTIMEZONE
BEGIN:VTIMEZONE
TZID:UTC
BEGIN:STANDARD
TZOFFSETFROM:+0000
TZOFFSETTO:+0000
TZNAME:UTC
DTSTART:20270101T000000
END:STANDARD
END:VTIMEZONE
BEGIN:VEVENT
DTSTART;VALUE=DATE:20281025
DTEND;VALUE=DATE:20281026
DTSTAMP:20260419T214626
CREATED:20220913T204453Z
LAST-MODIFIED:20241227T173632Z
UID:10000644-1856044800-1856131199@townofhancock.org
SUMMARY:Trash Pick Up
DESCRIPTION:Trash/Recycling collection is weekly.  Your collection day is either Wednesday or Friday.  If you are unsure\, please call Burgmeier’s Trash Collection (800-491-8975). \nOBSERVED HOLIDAYS: New Year’s Day\, Memorial Day\, July 4th\, Labor Day\, Thanksgiving Day and Christmas Day – No Pickup.
URL:https://townofhancock.org/event/trash-pick-up-2/2028-10-25/
LOCATION:MD
END:VEVENT
BEGIN:VEVENT
DTSTART;VALUE=DATE:20281025
DTEND;VALUE=DATE:20281026
DTSTAMP:20260419T214626
CREATED:20241227T172312Z
LAST-MODIFIED:20241227T172452Z
UID:10000805-1856044800-1856131199@townofhancock.org
SUMMARY:Recycling Fiber/Paper
DESCRIPTION:Paper Recycling\n\nThis is office paper\, newspaper\, magazines\, soft back books all mixed together. In some residential recycling areas\, we allow cardboard to be mixed in with this stream. This facilitates collection of one of the most produced recyclable products from a residence. All those Amazon boxes have to go somewhere.
URL:https://townofhancock.org/event/recycling-fiber-paper/2028-10-25/
LOCATION:MD
END:VEVENT
BEGIN:VEVENT
DTSTART;VALUE=DATE:20281101
DTEND;VALUE=DATE:20281102
DTSTAMP:20260419T214626
CREATED:20220913T204453Z
LAST-MODIFIED:20241227T173632Z
UID:10000645-1856649600-1856735999@townofhancock.org
SUMMARY:Trash Pick Up
DESCRIPTION:Trash/Recycling collection is weekly.  Your collection day is either Wednesday or Friday.  If you are unsure\, please call Burgmeier’s Trash Collection (800-491-8975). \nOBSERVED HOLIDAYS: New Year’s Day\, Memorial Day\, July 4th\, Labor Day\, Thanksgiving Day and Christmas Day – No Pickup.
URL:https://townofhancock.org/event/trash-pick-up-2/2028-11-01/
LOCATION:MD
END:VEVENT
BEGIN:VEVENT
DTSTART;VALUE=DATE:20281101
DTEND;VALUE=DATE:20281102
DTSTAMP:20260419T214626
CREATED:20241227T174026Z
LAST-MODIFIED:20241227T174120Z
UID:10000424-1856649600-1856735999@townofhancock.org
SUMMARY:Recycling Co-Mingled
DESCRIPTION:Co-mingling Recycling\n\nConsists of a mixture of glass (all colors)\, plastics (#1 & #2)\, and common consumer metals such as aluminum and tin cans.
URL:https://townofhancock.org/event/recycling-pick-up-2/2028-11-01/
LOCATION:MD
END:VEVENT
BEGIN:VEVENT
DTSTART;VALUE=DATE:20281108
DTEND;VALUE=DATE:20281109
DTSTAMP:20260419T214626
CREATED:20220913T204453Z
LAST-MODIFIED:20241227T173632Z
UID:10000646-1857254400-1857340799@townofhancock.org
SUMMARY:Trash Pick Up
DESCRIPTION:Trash/Recycling collection is weekly.  Your collection day is either Wednesday or Friday.  If you are unsure\, please call Burgmeier’s Trash Collection (800-491-8975). \nOBSERVED HOLIDAYS: New Year’s Day\, Memorial Day\, July 4th\, Labor Day\, Thanksgiving Day and Christmas Day – No Pickup.
URL:https://townofhancock.org/event/trash-pick-up-2/2028-11-08/
LOCATION:MD
END:VEVENT
BEGIN:VEVENT
DTSTART;VALUE=DATE:20281108
DTEND;VALUE=DATE:20281109
DTSTAMP:20260419T214626
CREATED:20241227T172312Z
LAST-MODIFIED:20241227T172452Z
UID:10000806-1857254400-1857340799@townofhancock.org
SUMMARY:Recycling Fiber/Paper
DESCRIPTION:Paper Recycling\n\nThis is office paper\, newspaper\, magazines\, soft back books all mixed together. In some residential recycling areas\, we allow cardboard to be mixed in with this stream. This facilitates collection of one of the most produced recyclable products from a residence. All those Amazon boxes have to go somewhere.
URL:https://townofhancock.org/event/recycling-fiber-paper/2028-11-08/
LOCATION:MD
END:VEVENT
BEGIN:VEVENT
DTSTART;TZID=America/New_York:20281114T190000
DTEND;TZID=America/New_York:20281114T203000
DTSTAMP:20260419T214626
CREATED:20241227T162051Z
LAST-MODIFIED:20241227T162956Z
UID:10000372-1857841200-1857846600@townofhancock.org
SUMMARY:Mayor & Council Meeting
DESCRIPTION:The Mayor and Council hold a monthly town meeting on the 2nd Tuesday of each month.  These meetings are held in the big meeting room at 126 W. High St. and are always open to the public.  Each meeting features a public comment period where individuals may address the Mayor and Council about town-related matters.  Generally speaking\, individual comments are limited to 5 minutes.  The Mayor reserves the right to change this limit based on the nature of the commentary or to conduct the business of the Council.
URL:https://townofhancock.org/event/mayor-council-meeting/2028-11-14/
LOCATION:Community Center\, 126 W. High St.\, Hancock\, MD 21750\, Hancock\, MD\, 21750\, United States
ORGANIZER;CN="Town of Hancock":MAILTO:info@townofhancock.org
END:VEVENT
BEGIN:VEVENT
DTSTART;VALUE=DATE:20281115
DTEND;VALUE=DATE:20281116
DTSTAMP:20260419T214626
CREATED:20220913T204453Z
LAST-MODIFIED:20241227T173632Z
UID:10000647-1857859200-1857945599@townofhancock.org
SUMMARY:Trash Pick Up
DESCRIPTION:Trash/Recycling collection is weekly.  Your collection day is either Wednesday or Friday.  If you are unsure\, please call Burgmeier’s Trash Collection (800-491-8975). \nOBSERVED HOLIDAYS: New Year’s Day\, Memorial Day\, July 4th\, Labor Day\, Thanksgiving Day and Christmas Day – No Pickup.
URL:https://townofhancock.org/event/trash-pick-up-2/2028-11-15/
LOCATION:MD
END:VEVENT
BEGIN:VEVENT
DTSTART;VALUE=DATE:20281115
DTEND;VALUE=DATE:20281116
DTSTAMP:20260419T214626
CREATED:20241227T174026Z
LAST-MODIFIED:20241227T174120Z
UID:10000425-1857859200-1857945599@townofhancock.org
SUMMARY:Recycling Co-Mingled
DESCRIPTION:Co-mingling Recycling\n\nConsists of a mixture of glass (all colors)\, plastics (#1 & #2)\, and common consumer metals such as aluminum and tin cans.
URL:https://townofhancock.org/event/recycling-pick-up-2/2028-11-15/
LOCATION:MD
END:VEVENT
BEGIN:VEVENT
DTSTART;VALUE=DATE:20281122
DTEND;VALUE=DATE:20281123
DTSTAMP:20260419T214626
CREATED:20220913T204453Z
LAST-MODIFIED:20241227T173632Z
UID:10000648-1858464000-1858550399@townofhancock.org
SUMMARY:Trash Pick Up
DESCRIPTION:Trash/Recycling collection is weekly.  Your collection day is either Wednesday or Friday.  If you are unsure\, please call Burgmeier’s Trash Collection (800-491-8975). \nOBSERVED HOLIDAYS: New Year’s Day\, Memorial Day\, July 4th\, Labor Day\, Thanksgiving Day and Christmas Day – No Pickup.
URL:https://townofhancock.org/event/trash-pick-up-2/2028-11-22/
LOCATION:MD
END:VEVENT
BEGIN:VEVENT
DTSTART;VALUE=DATE:20281122
DTEND;VALUE=DATE:20281123
DTSTAMP:20260419T214626
CREATED:20241227T172312Z
LAST-MODIFIED:20241227T172452Z
UID:10000807-1858464000-1858550399@townofhancock.org
SUMMARY:Recycling Fiber/Paper
DESCRIPTION:Paper Recycling\n\nThis is office paper\, newspaper\, magazines\, soft back books all mixed together. In some residential recycling areas\, we allow cardboard to be mixed in with this stream. This facilitates collection of one of the most produced recyclable products from a residence. All those Amazon boxes have to go somewhere.
URL:https://townofhancock.org/event/recycling-fiber-paper/2028-11-22/
LOCATION:MD
END:VEVENT
BEGIN:VEVENT
DTSTART;VALUE=DATE:20281129
DTEND;VALUE=DATE:20281130
DTSTAMP:20260419T214626
CREATED:20220913T204453Z
LAST-MODIFIED:20241227T173632Z
UID:10000649-1859068800-1859155199@townofhancock.org
SUMMARY:Trash Pick Up
DESCRIPTION:Trash/Recycling collection is weekly.  Your collection day is either Wednesday or Friday.  If you are unsure\, please call Burgmeier’s Trash Collection (800-491-8975). \nOBSERVED HOLIDAYS: New Year’s Day\, Memorial Day\, July 4th\, Labor Day\, Thanksgiving Day and Christmas Day – No Pickup.
URL:https://townofhancock.org/event/trash-pick-up-2/2028-11-29/
LOCATION:MD
END:VEVENT
BEGIN:VEVENT
DTSTART;VALUE=DATE:20281129
DTEND;VALUE=DATE:20281130
DTSTAMP:20260419T214626
CREATED:20241227T174026Z
LAST-MODIFIED:20241227T174120Z
UID:10000426-1859068800-1859155199@townofhancock.org
SUMMARY:Recycling Co-Mingled
DESCRIPTION:Co-mingling Recycling\n\nConsists of a mixture of glass (all colors)\, plastics (#1 & #2)\, and common consumer metals such as aluminum and tin cans.
URL:https://townofhancock.org/event/recycling-pick-up-2/2028-11-29/
LOCATION:MD
END:VEVENT
BEGIN:VEVENT
DTSTART;VALUE=DATE:20281206
DTEND;VALUE=DATE:20281207
DTSTAMP:20260419T214626
CREATED:20220913T204453Z
LAST-MODIFIED:20241227T173632Z
UID:10000650-1859673600-1859759999@townofhancock.org
SUMMARY:Trash Pick Up
DESCRIPTION:Trash/Recycling collection is weekly.  Your collection day is either Wednesday or Friday.  If you are unsure\, please call Burgmeier’s Trash Collection (800-491-8975). \nOBSERVED HOLIDAYS: New Year’s Day\, Memorial Day\, July 4th\, Labor Day\, Thanksgiving Day and Christmas Day – No Pickup.
URL:https://townofhancock.org/event/trash-pick-up-2/2028-12-06/
LOCATION:MD
END:VEVENT
BEGIN:VEVENT
DTSTART;VALUE=DATE:20281206
DTEND;VALUE=DATE:20281207
DTSTAMP:20260419T214626
CREATED:20241227T172312Z
LAST-MODIFIED:20241227T172452Z
UID:10000808-1859673600-1859759999@townofhancock.org
SUMMARY:Recycling Fiber/Paper
DESCRIPTION:Paper Recycling\n\nThis is office paper\, newspaper\, magazines\, soft back books all mixed together. In some residential recycling areas\, we allow cardboard to be mixed in with this stream. This facilitates collection of one of the most produced recyclable products from a residence. All those Amazon boxes have to go somewhere.
URL:https://townofhancock.org/event/recycling-fiber-paper/2028-12-06/
LOCATION:MD
END:VEVENT
BEGIN:VEVENT
DTSTART;TZID=America/New_York:20281212T190000
DTEND;TZID=America/New_York:20281212T203000
DTSTAMP:20260419T214626
CREATED:20241227T162051Z
LAST-MODIFIED:20241227T162956Z
UID:10000373-1860260400-1860265800@townofhancock.org
SUMMARY:Mayor & Council Meeting
DESCRIPTION:The Mayor and Council hold a monthly town meeting on the 2nd Tuesday of each month.  These meetings are held in the big meeting room at 126 W. High St. and are always open to the public.  Each meeting features a public comment period where individuals may address the Mayor and Council about town-related matters.  Generally speaking\, individual comments are limited to 5 minutes.  The Mayor reserves the right to change this limit based on the nature of the commentary or to conduct the business of the Council.
URL:https://townofhancock.org/event/mayor-council-meeting/2028-12-12/
LOCATION:Community Center\, 126 W. High St.\, Hancock\, MD 21750\, Hancock\, MD\, 21750\, United States
ORGANIZER;CN="Town of Hancock":MAILTO:info@townofhancock.org
END:VEVENT
BEGIN:VEVENT
DTSTART;VALUE=DATE:20281213
DTEND;VALUE=DATE:20281214
DTSTAMP:20260419T214626
CREATED:20220913T204453Z
LAST-MODIFIED:20241227T173632Z
UID:10000651-1860278400-1860364799@townofhancock.org
SUMMARY:Trash Pick Up
DESCRIPTION:Trash/Recycling collection is weekly.  Your collection day is either Wednesday or Friday.  If you are unsure\, please call Burgmeier’s Trash Collection (800-491-8975). \nOBSERVED HOLIDAYS: New Year’s Day\, Memorial Day\, July 4th\, Labor Day\, Thanksgiving Day and Christmas Day – No Pickup.
URL:https://townofhancock.org/event/trash-pick-up-2/2028-12-13/
LOCATION:MD
END:VEVENT
BEGIN:VEVENT
DTSTART;VALUE=DATE:20281213
DTEND;VALUE=DATE:20281214
DTSTAMP:20260419T214626
CREATED:20241227T174026Z
LAST-MODIFIED:20241227T174120Z
UID:10000427-1860278400-1860364799@townofhancock.org
SUMMARY:Recycling Co-Mingled
DESCRIPTION:Co-mingling Recycling\n\nConsists of a mixture of glass (all colors)\, plastics (#1 & #2)\, and common consumer metals such as aluminum and tin cans.
URL:https://townofhancock.org/event/recycling-pick-up-2/2028-12-13/
LOCATION:MD
END:VEVENT
BEGIN:VEVENT
DTSTART;VALUE=DATE:20281220
DTEND;VALUE=DATE:20281221
DTSTAMP:20260419T214626
CREATED:20220913T204453Z
LAST-MODIFIED:20241227T173632Z
UID:10000652-1860883200-1860969599@townofhancock.org
SUMMARY:Trash Pick Up
DESCRIPTION:Trash/Recycling collection is weekly.  Your collection day is either Wednesday or Friday.  If you are unsure\, please call Burgmeier’s Trash Collection (800-491-8975). \nOBSERVED HOLIDAYS: New Year’s Day\, Memorial Day\, July 4th\, Labor Day\, Thanksgiving Day and Christmas Day – No Pickup.
URL:https://townofhancock.org/event/trash-pick-up-2/2028-12-20/
LOCATION:MD
END:VEVENT
BEGIN:VEVENT
DTSTART;VALUE=DATE:20281220
DTEND;VALUE=DATE:20281221
DTSTAMP:20260419T214626
CREATED:20241227T172312Z
LAST-MODIFIED:20241227T172452Z
UID:10000809-1860883200-1860969599@townofhancock.org
SUMMARY:Recycling Fiber/Paper
DESCRIPTION:Paper Recycling\n\nThis is office paper\, newspaper\, magazines\, soft back books all mixed together. In some residential recycling areas\, we allow cardboard to be mixed in with this stream. This facilitates collection of one of the most produced recyclable products from a residence. All those Amazon boxes have to go somewhere.
URL:https://townofhancock.org/event/recycling-fiber-paper/2028-12-20/
LOCATION:MD
END:VEVENT
BEGIN:VEVENT
DTSTART;VALUE=DATE:20281227
DTEND;VALUE=DATE:20281228
DTSTAMP:20260419T214626
CREATED:20220913T204453Z
LAST-MODIFIED:20241227T173632Z
UID:10000653-1861488000-1861574399@townofhancock.org
SUMMARY:Trash Pick Up
DESCRIPTION:Trash/Recycling collection is weekly.  Your collection day is either Wednesday or Friday.  If you are unsure\, please call Burgmeier’s Trash Collection (800-491-8975). \nOBSERVED HOLIDAYS: New Year’s Day\, Memorial Day\, July 4th\, Labor Day\, Thanksgiving Day and Christmas Day – No Pickup.
URL:https://townofhancock.org/event/trash-pick-up-2/2028-12-27/
LOCATION:MD
END:VEVENT
BEGIN:VEVENT
DTSTART;VALUE=DATE:20281227
DTEND;VALUE=DATE:20281228
DTSTAMP:20260419T214626
CREATED:20241227T174026Z
LAST-MODIFIED:20241227T174120Z
UID:10000428-1861488000-1861574399@townofhancock.org
SUMMARY:Recycling Co-Mingled
DESCRIPTION:Co-mingling Recycling\n\nConsists of a mixture of glass (all colors)\, plastics (#1 & #2)\, and common consumer metals such as aluminum and tin cans.
URL:https://townofhancock.org/event/recycling-pick-up-2/2028-12-27/
LOCATION:MD
END:VEVENT
BEGIN:VEVENT
DTSTART;VALUE=DATE:20290103
DTEND;VALUE=DATE:20290104
DTSTAMP:20260419T214626
CREATED:20220913T204453Z
LAST-MODIFIED:20241227T173632Z
UID:10000654-1862092800-1862179199@townofhancock.org
SUMMARY:Trash Pick Up
DESCRIPTION:Trash/Recycling collection is weekly.  Your collection day is either Wednesday or Friday.  If you are unsure\, please call Burgmeier’s Trash Collection (800-491-8975). \nOBSERVED HOLIDAYS: New Year’s Day\, Memorial Day\, July 4th\, Labor Day\, Thanksgiving Day and Christmas Day – No Pickup.
URL:https://townofhancock.org/event/trash-pick-up-2/2029-01-03/
LOCATION:MD
END:VEVENT
BEGIN:VEVENT
DTSTART;VALUE=DATE:20290103
DTEND;VALUE=DATE:20290104
DTSTAMP:20260419T214626
CREATED:20241227T172312Z
LAST-MODIFIED:20241227T172452Z
UID:10000810-1862092800-1862179199@townofhancock.org
SUMMARY:Recycling Fiber/Paper
DESCRIPTION:Paper Recycling\n\nThis is office paper\, newspaper\, magazines\, soft back books all mixed together. In some residential recycling areas\, we allow cardboard to be mixed in with this stream. This facilitates collection of one of the most produced recyclable products from a residence. All those Amazon boxes have to go somewhere.
URL:https://townofhancock.org/event/recycling-fiber-paper/2029-01-03/
LOCATION:MD
END:VEVENT
BEGIN:VEVENT
DTSTART;TZID=America/New_York:20290109T190000
DTEND;TZID=America/New_York:20290109T203000
DTSTAMP:20260419T214626
CREATED:20241227T162051Z
LAST-MODIFIED:20241227T162956Z
UID:10000374-1862679600-1862685000@townofhancock.org
SUMMARY:Mayor & Council Meeting
DESCRIPTION:The Mayor and Council hold a monthly town meeting on the 2nd Tuesday of each month.  These meetings are held in the big meeting room at 126 W. High St. and are always open to the public.  Each meeting features a public comment period where individuals may address the Mayor and Council about town-related matters.  Generally speaking\, individual comments are limited to 5 minutes.  The Mayor reserves the right to change this limit based on the nature of the commentary or to conduct the business of the Council.
URL:https://townofhancock.org/event/mayor-council-meeting/2029-01-09/
LOCATION:Community Center\, 126 W. High St.\, Hancock\, MD 21750\, Hancock\, MD\, 21750\, United States
ORGANIZER;CN="Town of Hancock":MAILTO:info@townofhancock.org
END:VEVENT
BEGIN:VEVENT
DTSTART;VALUE=DATE:20290110
DTEND;VALUE=DATE:20290111
DTSTAMP:20260419T214626
CREATED:20220913T204453Z
LAST-MODIFIED:20241227T173632Z
UID:10000655-1862697600-1862783999@townofhancock.org
SUMMARY:Trash Pick Up
DESCRIPTION:Trash/Recycling collection is weekly.  Your collection day is either Wednesday or Friday.  If you are unsure\, please call Burgmeier’s Trash Collection (800-491-8975). \nOBSERVED HOLIDAYS: New Year’s Day\, Memorial Day\, July 4th\, Labor Day\, Thanksgiving Day and Christmas Day – No Pickup.
URL:https://townofhancock.org/event/trash-pick-up-2/2029-01-10/
LOCATION:MD
END:VEVENT
BEGIN:VEVENT
DTSTART;VALUE=DATE:20290110
DTEND;VALUE=DATE:20290111
DTSTAMP:20260419T214626
CREATED:20241227T174026Z
LAST-MODIFIED:20241227T174120Z
UID:10000429-1862697600-1862783999@townofhancock.org
SUMMARY:Recycling Co-Mingled
DESCRIPTION:Co-mingling Recycling\n\nConsists of a mixture of glass (all colors)\, plastics (#1 & #2)\, and common consumer metals such as aluminum and tin cans.
URL:https://townofhancock.org/event/recycling-pick-up-2/2029-01-10/
LOCATION:MD
END:VEVENT
BEGIN:VEVENT
DTSTART;VALUE=DATE:20290117
DTEND;VALUE=DATE:20290118
DTSTAMP:20260419T214626
CREATED:20220913T204453Z
LAST-MODIFIED:20241227T173632Z
UID:10000656-1863302400-1863388799@townofhancock.org
SUMMARY:Trash Pick Up
DESCRIPTION:Trash/Recycling collection is weekly.  Your collection day is either Wednesday or Friday.  If you are unsure\, please call Burgmeier’s Trash Collection (800-491-8975). \nOBSERVED HOLIDAYS: New Year’s Day\, Memorial Day\, July 4th\, Labor Day\, Thanksgiving Day and Christmas Day – No Pickup.
URL:https://townofhancock.org/event/trash-pick-up-2/2029-01-17/
LOCATION:MD
END:VEVENT
BEGIN:VEVENT
DTSTART;VALUE=DATE:20290117
DTEND;VALUE=DATE:20290118
DTSTAMP:20260419T214626
CREATED:20241227T172312Z
LAST-MODIFIED:20241227T172452Z
UID:10000811-1863302400-1863388799@townofhancock.org
SUMMARY:Recycling Fiber/Paper
DESCRIPTION:Paper Recycling\n\nThis is office paper\, newspaper\, magazines\, soft back books all mixed together. In some residential recycling areas\, we allow cardboard to be mixed in with this stream. This facilitates collection of one of the most produced recyclable products from a residence. All those Amazon boxes have to go somewhere.
URL:https://townofhancock.org/event/recycling-fiber-paper/2029-01-17/
LOCATION:MD
END:VEVENT
BEGIN:VEVENT
DTSTART;VALUE=DATE:20290124
DTEND;VALUE=DATE:20290125
DTSTAMP:20260419T214626
CREATED:20220913T204453Z
LAST-MODIFIED:20241227T173632Z
UID:10000657-1863907200-1863993599@townofhancock.org
SUMMARY:Trash Pick Up
DESCRIPTION:Trash/Recycling collection is weekly.  Your collection day is either Wednesday or Friday.  If you are unsure\, please call Burgmeier’s Trash Collection (800-491-8975). \nOBSERVED HOLIDAYS: New Year’s Day\, Memorial Day\, July 4th\, Labor Day\, Thanksgiving Day and Christmas Day – No Pickup.
URL:https://townofhancock.org/event/trash-pick-up-2/2029-01-24/
LOCATION:MD
END:VEVENT
END:VCALENDAR