BEGIN:VCALENDAR
VERSION:2.0
PRODID:-//Town of Hancock - ECPv6.15.20//NONSGML v1.0//EN
CALSCALE:GREGORIAN
METHOD:PUBLISH
X-ORIGINAL-URL:https://townofhancock.org
X-WR-CALDESC:Events for Town of Hancock
REFRESH-INTERVAL;VALUE=DURATION:PT1H
X-Robots-Tag:noindex
X-PUBLISHED-TTL:PT1H
BEGIN:VTIMEZONE
TZID:America/New_York
BEGIN:DAYLIGHT
TZOFFSETFROM:-0500
TZOFFSETTO:-0400
TZNAME:EDT
DTSTART:20280312T070000
END:DAYLIGHT
BEGIN:STANDARD
TZOFFSETFROM:-0400
TZOFFSETTO:-0500
TZNAME:EST
DTSTART:20281105T060000
END:STANDARD
BEGIN:DAYLIGHT
TZOFFSETFROM:-0500
TZOFFSETTO:-0400
TZNAME:EDT
DTSTART:20290311T070000
END:DAYLIGHT
BEGIN:STANDARD
TZOFFSETFROM:-0400
TZOFFSETTO:-0500
TZNAME:EST
DTSTART:20291104T060000
END:STANDARD
BEGIN:DAYLIGHT
TZOFFSETFROM:-0500
TZOFFSETTO:-0400
TZNAME:EDT
DTSTART:20300310T070000
END:DAYLIGHT
BEGIN:STANDARD
TZOFFSETFROM:-0400
TZOFFSETTO:-0500
TZNAME:EST
DTSTART:20301103T060000
END:STANDARD
END:VTIMEZONE
BEGIN:VTIMEZONE
TZID:America/New_York
BEGIN:DAYLIGHT
TZOFFSETFROM:-0500
TZOFFSETTO:-0400
TZNAME:EDT
DTSTART:20280312T070000
END:DAYLIGHT
BEGIN:STANDARD
TZOFFSETFROM:-0400
TZOFFSETTO:-0500
TZNAME:EST
DTSTART:20281105T060000
END:STANDARD
BEGIN:DAYLIGHT
TZOFFSETFROM:-0500
TZOFFSETTO:-0400
TZNAME:EDT
DTSTART:20290311T070000
END:DAYLIGHT
BEGIN:STANDARD
TZOFFSETFROM:-0400
TZOFFSETTO:-0500
TZNAME:EST
DTSTART:20291104T060000
END:STANDARD
BEGIN:DAYLIGHT
TZOFFSETFROM:-0500
TZOFFSETTO:-0400
TZNAME:EDT
DTSTART:20300310T070000
END:DAYLIGHT
BEGIN:STANDARD
TZOFFSETFROM:-0400
TZOFFSETTO:-0500
TZNAME:EST
DTSTART:20301103T060000
END:STANDARD
END:VTIMEZONE
BEGIN:VTIMEZONE
TZID:UTC
BEGIN:STANDARD
TZOFFSETFROM:+0000
TZOFFSETTO:+0000
TZNAME:UTC
DTSTART:20280101T000000
END:STANDARD
END:VTIMEZONE
BEGIN:VEVENT
DTSTART;VALUE=DATE:20291219
DTEND;VALUE=DATE:20291220
DTSTAMP:20260421T224014
CREATED:20241227T172312Z
LAST-MODIFIED:20241227T172452Z
UID:10000835-1892332800-1892419199@townofhancock.org
SUMMARY:Recycling Fiber/Paper
DESCRIPTION:Paper Recycling\n\nThis is office paper\, newspaper\, magazines\, soft back books all mixed together. In some residential recycling areas\, we allow cardboard to be mixed in with this stream. This facilitates collection of one of the most produced recyclable products from a residence. All those Amazon boxes have to go somewhere.
URL:https://townofhancock.org/event/recycling-fiber-paper/2029-12-19/
END:VEVENT
BEGIN:VEVENT
DTSTART;VALUE=DATE:20291226
DTEND;VALUE=DATE:20291227
DTSTAMP:20260421T224014
CREATED:20220913T204453Z
LAST-MODIFIED:20241227T173632Z
UID:10000705-1892937600-1893023999@townofhancock.org
SUMMARY:Trash Pick Up
DESCRIPTION:Trash/Recycling collection is weekly.  Your collection day is either Wednesday or Friday.  If you are unsure\, please call Burgmeier’s Trash Collection (800-491-8975). \nOBSERVED HOLIDAYS: New Year’s Day\, Memorial Day\, July 4th\, Labor Day\, Thanksgiving Day and Christmas Day – No Pickup.
URL:https://townofhancock.org/event/trash-pick-up-2/2029-12-26/
END:VEVENT
BEGIN:VEVENT
DTSTART;VALUE=DATE:20291226
DTEND;VALUE=DATE:20291227
DTSTAMP:20260421T224014
CREATED:20241227T174026Z
LAST-MODIFIED:20241227T174120Z
UID:10000454-1892937600-1893023999@townofhancock.org
SUMMARY:Recycling Co-Mingled
DESCRIPTION:Co-mingling Recycling\n\nConsists of a mixture of glass (all colors)\, plastics (#1 & #2)\, and common consumer metals such as aluminum and tin cans.
URL:https://townofhancock.org/event/recycling-pick-up-2/2029-12-26/
END:VEVENT
END:VCALENDAR