BEGIN:VCALENDAR
VERSION:2.0
PRODID:-//Town of Hancock - ECPv6.15.20//NONSGML v1.0//EN
CALSCALE:GREGORIAN
METHOD:PUBLISH
X-WR-CALNAME:Town of Hancock
X-ORIGINAL-URL:https://townofhancock.org
X-WR-CALDESC:Events for Town of Hancock
REFRESH-INTERVAL;VALUE=DURATION:PT1H
X-Robots-Tag:noindex
X-PUBLISHED-TTL:PT1H
BEGIN:VTIMEZONE
TZID:America/New_York
BEGIN:DAYLIGHT
TZOFFSETFROM:-0500
TZOFFSETTO:-0400
TZNAME:EDT
DTSTART:20210314T070000
END:DAYLIGHT
BEGIN:STANDARD
TZOFFSETFROM:-0400
TZOFFSETTO:-0500
TZNAME:EST
DTSTART:20211107T060000
END:STANDARD
BEGIN:DAYLIGHT
TZOFFSETFROM:-0500
TZOFFSETTO:-0400
TZNAME:EDT
DTSTART:20220313T070000
END:DAYLIGHT
BEGIN:STANDARD
TZOFFSETFROM:-0400
TZOFFSETTO:-0500
TZNAME:EST
DTSTART:20221106T060000
END:STANDARD
BEGIN:DAYLIGHT
TZOFFSETFROM:-0500
TZOFFSETTO:-0400
TZNAME:EDT
DTSTART:20230312T070000
END:DAYLIGHT
BEGIN:STANDARD
TZOFFSETFROM:-0400
TZOFFSETTO:-0500
TZNAME:EST
DTSTART:20231105T060000
END:STANDARD
BEGIN:DAYLIGHT
TZOFFSETFROM:-0500
TZOFFSETTO:-0400
TZNAME:EDT
DTSTART:20240310T070000
END:DAYLIGHT
BEGIN:STANDARD
TZOFFSETFROM:-0400
TZOFFSETTO:-0500
TZNAME:EST
DTSTART:20241103T060000
END:STANDARD
END:VTIMEZONE
BEGIN:VTIMEZONE
TZID:UTC
BEGIN:STANDARD
TZOFFSETFROM:+0000
TZOFFSETTO:+0000
TZNAME:UTC
DTSTART:20220101T000000
END:STANDARD
END:VTIMEZONE
BEGIN:VEVENT
DTSTART;VALUE=DATE:20230426
DTEND;VALUE=DATE:20230427
DTSTAMP:20260419T175058
CREATED:20220913T204453Z
LAST-MODIFIED:20241227T173632Z
UID:10000471-1682467200-1682553599@townofhancock.org
SUMMARY:Trash Pick Up
DESCRIPTION:Trash/Recycling collection is weekly.  Your collection day is either Wednesday or Friday.  If you are unsure\, please call Burgmeier’s Trash Collection (800-491-8975). \nOBSERVED HOLIDAYS: New Year’s Day\, Memorial Day\, July 4th\, Labor Day\, Thanksgiving Day and Christmas Day – No Pickup.
URL:https://townofhancock.org/event/trash-pick-up-2/2023-04-26/
END:VEVENT
BEGIN:VEVENT
DTSTART;VALUE=DATE:20230419
DTEND;VALUE=DATE:20230420
DTSTAMP:20260419T175058
CREATED:20220913T204453Z
LAST-MODIFIED:20241227T173632Z
UID:10000017-1681862400-1681948799@townofhancock.org
SUMMARY:Trash Pick Up
DESCRIPTION:Trash/Recycling collection is weekly.  Your collection day is either Wednesday or Friday.  If you are unsure\, please call Burgmeier’s Trash Collection (800-491-8975). \nOBSERVED HOLIDAYS: New Year’s Day\, Memorial Day\, July 4th\, Labor Day\, Thanksgiving Day and Christmas Day – No Pickup.
URL:https://townofhancock.org/event/trash-pick-up-2/2023-04-19/
END:VEVENT
BEGIN:VEVENT
DTSTART;VALUE=DATE:20230412
DTEND;VALUE=DATE:20230413
DTSTAMP:20260419T175058
CREATED:20220913T204613Z
LAST-MODIFIED:20241227T170934Z
UID:10000147-1681257600-1681343999@townofhancock.org
SUMMARY:Recycling Co-Mingled
DESCRIPTION:Co-mingling Recycling\n\nConsists of a mixture of glass (all colors)\, plastics (#1 & #2)\, and common consumer metals such as aluminum and tin cans.
URL:https://townofhancock.org/event/recycling-pick-up/2023-04-12/
END:VEVENT
BEGIN:VEVENT
DTSTART;VALUE=DATE:20230412
DTEND;VALUE=DATE:20230413
DTSTAMP:20260419T175058
CREATED:20220913T204453Z
LAST-MODIFIED:20241227T173632Z
UID:10000470-1681257600-1681343999@townofhancock.org
SUMMARY:Trash Pick Up
DESCRIPTION:Trash/Recycling collection is weekly.  Your collection day is either Wednesday or Friday.  If you are unsure\, please call Burgmeier’s Trash Collection (800-491-8975). \nOBSERVED HOLIDAYS: New Year’s Day\, Memorial Day\, July 4th\, Labor Day\, Thanksgiving Day and Christmas Day – No Pickup.
URL:https://townofhancock.org/event/trash-pick-up-2/2023-04-12/
END:VEVENT
BEGIN:VEVENT
DTSTART;VALUE=DATE:20230405
DTEND;VALUE=DATE:20230406
DTSTAMP:20260419T175058
CREATED:20220913T204453Z
LAST-MODIFIED:20241227T173632Z
UID:10000016-1680652800-1680739199@townofhancock.org
SUMMARY:Trash Pick Up
DESCRIPTION:Trash/Recycling collection is weekly.  Your collection day is either Wednesday or Friday.  If you are unsure\, please call Burgmeier’s Trash Collection (800-491-8975). \nOBSERVED HOLIDAYS: New Year’s Day\, Memorial Day\, July 4th\, Labor Day\, Thanksgiving Day and Christmas Day – No Pickup.
URL:https://townofhancock.org/event/trash-pick-up-2/2023-04-05/
END:VEVENT
BEGIN:VEVENT
DTSTART;TZID=UTC:20230404T180000
DTEND;TZID=UTC:20230404T200000
DTSTAMP:20260419T175058
CREATED:20220913T204825Z
LAST-MODIFIED:20220913T204825Z
UID:10000270-1680631200-1680638400@townofhancock.org
SUMMARY:Planning Commission Meeting
DESCRIPTION:
URL:https://townofhancock.org/event/planning-commission-meeting/2023-04-04/
END:VEVENT
BEGIN:VEVENT
DTSTART;VALUE=DATE:20230329
DTEND;VALUE=DATE:20230330
DTSTAMP:20260419T175058
CREATED:20220913T204613Z
LAST-MODIFIED:20241227T170934Z
UID:10000146-1680048000-1680134399@townofhancock.org
SUMMARY:Recycling Co-Mingled
DESCRIPTION:Co-mingling Recycling\n\nConsists of a mixture of glass (all colors)\, plastics (#1 & #2)\, and common consumer metals such as aluminum and tin cans.
URL:https://townofhancock.org/event/recycling-pick-up/2023-03-29/
END:VEVENT
BEGIN:VEVENT
DTSTART;VALUE=DATE:20230329
DTEND;VALUE=DATE:20230330
DTSTAMP:20260419T175058
CREATED:20220913T204453Z
LAST-MODIFIED:20241227T173632Z
UID:10000469-1680048000-1680134399@townofhancock.org
SUMMARY:Trash Pick Up
DESCRIPTION:Trash/Recycling collection is weekly.  Your collection day is either Wednesday or Friday.  If you are unsure\, please call Burgmeier’s Trash Collection (800-491-8975). \nOBSERVED HOLIDAYS: New Year’s Day\, Memorial Day\, July 4th\, Labor Day\, Thanksgiving Day and Christmas Day – No Pickup.
URL:https://townofhancock.org/event/trash-pick-up-2/2023-03-29/
END:VEVENT
BEGIN:VEVENT
DTSTART;VALUE=DATE:20230322
DTEND;VALUE=DATE:20230323
DTSTAMP:20260419T175058
CREATED:20220913T204453Z
LAST-MODIFIED:20241227T173632Z
UID:10000015-1679443200-1679529599@townofhancock.org
SUMMARY:Trash Pick Up
DESCRIPTION:Trash/Recycling collection is weekly.  Your collection day is either Wednesday or Friday.  If you are unsure\, please call Burgmeier’s Trash Collection (800-491-8975). \nOBSERVED HOLIDAYS: New Year’s Day\, Memorial Day\, July 4th\, Labor Day\, Thanksgiving Day and Christmas Day – No Pickup.
URL:https://townofhancock.org/event/trash-pick-up-2/2023-03-22/
END:VEVENT
BEGIN:VEVENT
DTSTART;VALUE=DATE:20230315
DTEND;VALUE=DATE:20230316
DTSTAMP:20260419T175058
CREATED:20220913T204613Z
LAST-MODIFIED:20241227T170934Z
UID:10000145-1678838400-1678924799@townofhancock.org
SUMMARY:Recycling Co-Mingled
DESCRIPTION:Co-mingling Recycling\n\nConsists of a mixture of glass (all colors)\, plastics (#1 & #2)\, and common consumer metals such as aluminum and tin cans.
URL:https://townofhancock.org/event/recycling-pick-up/2023-03-15/
END:VEVENT
BEGIN:VEVENT
DTSTART;VALUE=DATE:20230315
DTEND;VALUE=DATE:20230316
DTSTAMP:20260419T175058
CREATED:20220913T204453Z
LAST-MODIFIED:20241227T173632Z
UID:10000468-1678838400-1678924799@townofhancock.org
SUMMARY:Trash Pick Up
DESCRIPTION:Trash/Recycling collection is weekly.  Your collection day is either Wednesday or Friday.  If you are unsure\, please call Burgmeier’s Trash Collection (800-491-8975). \nOBSERVED HOLIDAYS: New Year’s Day\, Memorial Day\, July 4th\, Labor Day\, Thanksgiving Day and Christmas Day – No Pickup.
URL:https://townofhancock.org/event/trash-pick-up-2/2023-03-15/
END:VEVENT
BEGIN:VEVENT
DTSTART;VALUE=DATE:20230308
DTEND;VALUE=DATE:20230309
DTSTAMP:20260419T175058
CREATED:20220913T204453Z
LAST-MODIFIED:20241227T173632Z
UID:10000014-1678233600-1678319999@townofhancock.org
SUMMARY:Trash Pick Up
DESCRIPTION:Trash/Recycling collection is weekly.  Your collection day is either Wednesday or Friday.  If you are unsure\, please call Burgmeier’s Trash Collection (800-491-8975). \nOBSERVED HOLIDAYS: New Year’s Day\, Memorial Day\, July 4th\, Labor Day\, Thanksgiving Day and Christmas Day – No Pickup.
URL:https://townofhancock.org/event/trash-pick-up-2/2023-03-08/
END:VEVENT
BEGIN:VEVENT
DTSTART;TZID=UTC:20230307T180000
DTEND;TZID=UTC:20230307T200000
DTSTAMP:20260419T175058
CREATED:20220913T204825Z
LAST-MODIFIED:20220913T204825Z
UID:10000269-1678212000-1678219200@townofhancock.org
SUMMARY:Planning Commission Meeting
DESCRIPTION:
URL:https://townofhancock.org/event/planning-commission-meeting/2023-03-07/
END:VEVENT
BEGIN:VEVENT
DTSTART;VALUE=DATE:20230301
DTEND;VALUE=DATE:20230302
DTSTAMP:20260419T175058
CREATED:20220913T204613Z
LAST-MODIFIED:20241227T170934Z
UID:10000144-1677628800-1677715199@townofhancock.org
SUMMARY:Recycling Co-Mingled
DESCRIPTION:Co-mingling Recycling\n\nConsists of a mixture of glass (all colors)\, plastics (#1 & #2)\, and common consumer metals such as aluminum and tin cans.
URL:https://townofhancock.org/event/recycling-pick-up/2023-03-01/
END:VEVENT
BEGIN:VEVENT
DTSTART;VALUE=DATE:20230301
DTEND;VALUE=DATE:20230302
DTSTAMP:20260419T175058
CREATED:20220913T204453Z
LAST-MODIFIED:20241227T173632Z
UID:10000467-1677628800-1677715199@townofhancock.org
SUMMARY:Trash Pick Up
DESCRIPTION:Trash/Recycling collection is weekly.  Your collection day is either Wednesday or Friday.  If you are unsure\, please call Burgmeier’s Trash Collection (800-491-8975). \nOBSERVED HOLIDAYS: New Year’s Day\, Memorial Day\, July 4th\, Labor Day\, Thanksgiving Day and Christmas Day – No Pickup.
URL:https://townofhancock.org/event/trash-pick-up-2/2023-03-01/
END:VEVENT
BEGIN:VEVENT
DTSTART;VALUE=DATE:20230222
DTEND;VALUE=DATE:20230223
DTSTAMP:20260419T175058
CREATED:20220913T204453Z
LAST-MODIFIED:20241227T173632Z
UID:10000013-1677024000-1677110399@townofhancock.org
SUMMARY:Trash Pick Up
DESCRIPTION:Trash/Recycling collection is weekly.  Your collection day is either Wednesday or Friday.  If you are unsure\, please call Burgmeier’s Trash Collection (800-491-8975). \nOBSERVED HOLIDAYS: New Year’s Day\, Memorial Day\, July 4th\, Labor Day\, Thanksgiving Day and Christmas Day – No Pickup.
URL:https://townofhancock.org/event/trash-pick-up-2/2023-02-22/
END:VEVENT
BEGIN:VEVENT
DTSTART;VALUE=DATE:20230215
DTEND;VALUE=DATE:20230216
DTSTAMP:20260419T175058
CREATED:20220913T204613Z
LAST-MODIFIED:20241227T170934Z
UID:10000143-1676419200-1676505599@townofhancock.org
SUMMARY:Recycling Co-Mingled
DESCRIPTION:Co-mingling Recycling\n\nConsists of a mixture of glass (all colors)\, plastics (#1 & #2)\, and common consumer metals such as aluminum and tin cans.
URL:https://townofhancock.org/event/recycling-pick-up/2023-02-15/
END:VEVENT
BEGIN:VEVENT
DTSTART;VALUE=DATE:20230215
DTEND;VALUE=DATE:20230216
DTSTAMP:20260419T175058
CREATED:20220913T204453Z
LAST-MODIFIED:20241227T173632Z
UID:10000466-1676419200-1676505599@townofhancock.org
SUMMARY:Trash Pick Up
DESCRIPTION:Trash/Recycling collection is weekly.  Your collection day is either Wednesday or Friday.  If you are unsure\, please call Burgmeier’s Trash Collection (800-491-8975). \nOBSERVED HOLIDAYS: New Year’s Day\, Memorial Day\, July 4th\, Labor Day\, Thanksgiving Day and Christmas Day – No Pickup.
URL:https://townofhancock.org/event/trash-pick-up-2/2023-02-15/
END:VEVENT
BEGIN:VEVENT
DTSTART;VALUE=DATE:20230208
DTEND;VALUE=DATE:20230209
DTSTAMP:20260419T175058
CREATED:20220913T204453Z
LAST-MODIFIED:20241227T173632Z
UID:10000012-1675814400-1675900799@townofhancock.org
SUMMARY:Trash Pick Up
DESCRIPTION:Trash/Recycling collection is weekly.  Your collection day is either Wednesday or Friday.  If you are unsure\, please call Burgmeier’s Trash Collection (800-491-8975). \nOBSERVED HOLIDAYS: New Year’s Day\, Memorial Day\, July 4th\, Labor Day\, Thanksgiving Day and Christmas Day – No Pickup.
URL:https://townofhancock.org/event/trash-pick-up-2/2023-02-08/
END:VEVENT
BEGIN:VEVENT
DTSTART;TZID=UTC:20230207T180000
DTEND;TZID=UTC:20230207T200000
DTSTAMP:20260419T175058
CREATED:20220913T204825Z
LAST-MODIFIED:20220913T204825Z
UID:10000268-1675792800-1675800000@townofhancock.org
SUMMARY:Planning Commission Meeting
DESCRIPTION:
URL:https://townofhancock.org/event/planning-commission-meeting/2023-02-07/
END:VEVENT
BEGIN:VEVENT
DTSTART;VALUE=DATE:20230201
DTEND;VALUE=DATE:20230202
DTSTAMP:20260419T175058
CREATED:20220913T204613Z
LAST-MODIFIED:20241227T170934Z
UID:10000142-1675209600-1675295999@townofhancock.org
SUMMARY:Recycling Co-Mingled
DESCRIPTION:Co-mingling Recycling\n\nConsists of a mixture of glass (all colors)\, plastics (#1 & #2)\, and common consumer metals such as aluminum and tin cans.
URL:https://townofhancock.org/event/recycling-pick-up/2023-02-01/
END:VEVENT
BEGIN:VEVENT
DTSTART;VALUE=DATE:20230201
DTEND;VALUE=DATE:20230202
DTSTAMP:20260419T175058
CREATED:20220913T204453Z
LAST-MODIFIED:20241227T173632Z
UID:10000465-1675209600-1675295999@townofhancock.org
SUMMARY:Trash Pick Up
DESCRIPTION:Trash/Recycling collection is weekly.  Your collection day is either Wednesday or Friday.  If you are unsure\, please call Burgmeier’s Trash Collection (800-491-8975). \nOBSERVED HOLIDAYS: New Year’s Day\, Memorial Day\, July 4th\, Labor Day\, Thanksgiving Day and Christmas Day – No Pickup.
URL:https://townofhancock.org/event/trash-pick-up-2/2023-02-01/
END:VEVENT
BEGIN:VEVENT
DTSTART;VALUE=DATE:20230125
DTEND;VALUE=DATE:20230126
DTSTAMP:20260419T175058
CREATED:20220913T204453Z
LAST-MODIFIED:20241227T173632Z
UID:10000011-1674604800-1674691199@townofhancock.org
SUMMARY:Trash Pick Up
DESCRIPTION:Trash/Recycling collection is weekly.  Your collection day is either Wednesday or Friday.  If you are unsure\, please call Burgmeier’s Trash Collection (800-491-8975). \nOBSERVED HOLIDAYS: New Year’s Day\, Memorial Day\, July 4th\, Labor Day\, Thanksgiving Day and Christmas Day – No Pickup.
URL:https://townofhancock.org/event/trash-pick-up-2/2023-01-25/
END:VEVENT
BEGIN:VEVENT
DTSTART;VALUE=DATE:20230118
DTEND;VALUE=DATE:20230119
DTSTAMP:20260419T175059
CREATED:20220913T204613Z
LAST-MODIFIED:20241227T170934Z
UID:10000141-1674000000-1674086399@townofhancock.org
SUMMARY:Recycling Co-Mingled
DESCRIPTION:Co-mingling Recycling\n\nConsists of a mixture of glass (all colors)\, plastics (#1 & #2)\, and common consumer metals such as aluminum and tin cans.
URL:https://townofhancock.org/event/recycling-pick-up/2023-01-18/
END:VEVENT
BEGIN:VEVENT
DTSTART;VALUE=DATE:20230118
DTEND;VALUE=DATE:20230119
DTSTAMP:20260419T175059
CREATED:20220913T204453Z
LAST-MODIFIED:20241227T173632Z
UID:10000464-1674000000-1674086399@townofhancock.org
SUMMARY:Trash Pick Up
DESCRIPTION:Trash/Recycling collection is weekly.  Your collection day is either Wednesday or Friday.  If you are unsure\, please call Burgmeier’s Trash Collection (800-491-8975). \nOBSERVED HOLIDAYS: New Year’s Day\, Memorial Day\, July 4th\, Labor Day\, Thanksgiving Day and Christmas Day – No Pickup.
URL:https://townofhancock.org/event/trash-pick-up-2/2023-01-18/
END:VEVENT
BEGIN:VEVENT
DTSTART;VALUE=DATE:20230111
DTEND;VALUE=DATE:20230112
DTSTAMP:20260419T175059
CREATED:20220913T204453Z
LAST-MODIFIED:20241227T173632Z
UID:10000010-1673395200-1673481599@townofhancock.org
SUMMARY:Trash Pick Up
DESCRIPTION:Trash/Recycling collection is weekly.  Your collection day is either Wednesday or Friday.  If you are unsure\, please call Burgmeier’s Trash Collection (800-491-8975). \nOBSERVED HOLIDAYS: New Year’s Day\, Memorial Day\, July 4th\, Labor Day\, Thanksgiving Day and Christmas Day – No Pickup.
URL:https://townofhancock.org/event/trash-pick-up-2/2023-01-11/
END:VEVENT
BEGIN:VEVENT
DTSTART;VALUE=DATE:20230104
DTEND;VALUE=DATE:20230105
DTSTAMP:20260419T175059
CREATED:20220913T204613Z
LAST-MODIFIED:20241227T170934Z
UID:10000140-1672790400-1672876799@townofhancock.org
SUMMARY:Recycling Co-Mingled
DESCRIPTION:Co-mingling Recycling\n\nConsists of a mixture of glass (all colors)\, plastics (#1 & #2)\, and common consumer metals such as aluminum and tin cans.
URL:https://townofhancock.org/event/recycling-pick-up/2023-01-04/
END:VEVENT
BEGIN:VEVENT
DTSTART;VALUE=DATE:20230104
DTEND;VALUE=DATE:20230105
DTSTAMP:20260419T175059
CREATED:20220913T204453Z
LAST-MODIFIED:20241227T173632Z
UID:10000463-1672790400-1672876799@townofhancock.org
SUMMARY:Trash Pick Up
DESCRIPTION:Trash/Recycling collection is weekly.  Your collection day is either Wednesday or Friday.  If you are unsure\, please call Burgmeier’s Trash Collection (800-491-8975). \nOBSERVED HOLIDAYS: New Year’s Day\, Memorial Day\, July 4th\, Labor Day\, Thanksgiving Day and Christmas Day – No Pickup.
URL:https://townofhancock.org/event/trash-pick-up-2/2023-01-04/
END:VEVENT
BEGIN:VEVENT
DTSTART;TZID=UTC:20230103T180000
DTEND;TZID=UTC:20230103T200000
DTSTAMP:20260419T175059
CREATED:20220913T204825Z
LAST-MODIFIED:20220913T204825Z
UID:10000267-1672768800-1672776000@townofhancock.org
SUMMARY:Planning Commission Meeting
DESCRIPTION:
URL:https://townofhancock.org/event/planning-commission-meeting/2023-01-03/
END:VEVENT
BEGIN:VEVENT
DTSTART;VALUE=DATE:20221228
DTEND;VALUE=DATE:20221229
DTSTAMP:20260419T175059
CREATED:20220913T204453Z
LAST-MODIFIED:20241227T173632Z
UID:10000009-1672185600-1672271999@townofhancock.org
SUMMARY:Trash Pick Up
DESCRIPTION:Trash/Recycling collection is weekly.  Your collection day is either Wednesday or Friday.  If you are unsure\, please call Burgmeier’s Trash Collection (800-491-8975). \nOBSERVED HOLIDAYS: New Year’s Day\, Memorial Day\, July 4th\, Labor Day\, Thanksgiving Day and Christmas Day – No Pickup.
URL:https://townofhancock.org/event/trash-pick-up-2/2022-12-28/
END:VEVENT
END:VCALENDAR