BEGIN:VCALENDAR
VERSION:2.0
PRODID:-//Town of Hancock - ECPv6.15.20//NONSGML v1.0//EN
CALSCALE:GREGORIAN
METHOD:PUBLISH
X-WR-CALNAME:Town of Hancock
X-ORIGINAL-URL:https://townofhancock.org
X-WR-CALDESC:Events for Town of Hancock
REFRESH-INTERVAL;VALUE=DURATION:PT1H
X-Robots-Tag:noindex
X-PUBLISHED-TTL:PT1H
BEGIN:VTIMEZONE
TZID:America/New_York
BEGIN:DAYLIGHT
TZOFFSETFROM:-0500
TZOFFSETTO:-0400
TZNAME:EDT
DTSTART:20220313T070000
END:DAYLIGHT
BEGIN:STANDARD
TZOFFSETFROM:-0400
TZOFFSETTO:-0500
TZNAME:EST
DTSTART:20221106T060000
END:STANDARD
BEGIN:DAYLIGHT
TZOFFSETFROM:-0500
TZOFFSETTO:-0400
TZNAME:EDT
DTSTART:20230312T070000
END:DAYLIGHT
BEGIN:STANDARD
TZOFFSETFROM:-0400
TZOFFSETTO:-0500
TZNAME:EST
DTSTART:20231105T060000
END:STANDARD
BEGIN:DAYLIGHT
TZOFFSETFROM:-0500
TZOFFSETTO:-0400
TZNAME:EDT
DTSTART:20240310T070000
END:DAYLIGHT
BEGIN:STANDARD
TZOFFSETFROM:-0400
TZOFFSETTO:-0500
TZNAME:EST
DTSTART:20241103T060000
END:STANDARD
BEGIN:DAYLIGHT
TZOFFSETFROM:-0500
TZOFFSETTO:-0400
TZNAME:EDT
DTSTART:20250309T070000
END:DAYLIGHT
BEGIN:STANDARD
TZOFFSETFROM:-0400
TZOFFSETTO:-0500
TZNAME:EST
DTSTART:20251102T060000
END:STANDARD
END:VTIMEZONE
BEGIN:VTIMEZONE
TZID:UTC
BEGIN:STANDARD
TZOFFSETFROM:+0000
TZOFFSETTO:+0000
TZNAME:UTC
DTSTART:20220101T000000
END:STANDARD
END:VTIMEZONE
BEGIN:VEVENT
DTSTART;VALUE=DATE:20240124
DTEND;VALUE=DATE:20240125
DTSTAMP:20260419T112759
CREATED:20220913T204453Z
LAST-MODIFIED:20241227T173632Z
UID:10000037-1706054400-1706140799@townofhancock.org
SUMMARY:Trash Pick Up
DESCRIPTION:Trash/Recycling collection is weekly.  Your collection day is either Wednesday or Friday.  If you are unsure\, please call Burgmeier’s Trash Collection (800-491-8975). \nOBSERVED HOLIDAYS: New Year’s Day\, Memorial Day\, July 4th\, Labor Day\, Thanksgiving Day and Christmas Day – No Pickup.
URL:https://townofhancock.org/event/trash-pick-up-2/2024-01-24/
END:VEVENT
BEGIN:VEVENT
DTSTART;VALUE=DATE:20240117
DTEND;VALUE=DATE:20240118
DTSTAMP:20260419T112759
CREATED:20220913T204613Z
LAST-MODIFIED:20241227T170934Z
UID:10000167-1705449600-1705535999@townofhancock.org
SUMMARY:Recycling Co-Mingled
DESCRIPTION:Co-mingling Recycling\n\nConsists of a mixture of glass (all colors)\, plastics (#1 & #2)\, and common consumer metals such as aluminum and tin cans.
URL:https://townofhancock.org/event/recycling-pick-up/2024-01-17/
END:VEVENT
BEGIN:VEVENT
DTSTART;VALUE=DATE:20240117
DTEND;VALUE=DATE:20240118
DTSTAMP:20260419T112759
CREATED:20220913T204453Z
LAST-MODIFIED:20241227T173632Z
UID:10000490-1705449600-1705535999@townofhancock.org
SUMMARY:Trash Pick Up
DESCRIPTION:Trash/Recycling collection is weekly.  Your collection day is either Wednesday or Friday.  If you are unsure\, please call Burgmeier’s Trash Collection (800-491-8975). \nOBSERVED HOLIDAYS: New Year’s Day\, Memorial Day\, July 4th\, Labor Day\, Thanksgiving Day and Christmas Day – No Pickup.
URL:https://townofhancock.org/event/trash-pick-up-2/2024-01-17/
END:VEVENT
BEGIN:VEVENT
DTSTART;VALUE=DATE:20240110
DTEND;VALUE=DATE:20240111
DTSTAMP:20260419T112759
CREATED:20220913T204453Z
LAST-MODIFIED:20241227T173632Z
UID:10000036-1704844800-1704931199@townofhancock.org
SUMMARY:Trash Pick Up
DESCRIPTION:Trash/Recycling collection is weekly.  Your collection day is either Wednesday or Friday.  If you are unsure\, please call Burgmeier’s Trash Collection (800-491-8975). \nOBSERVED HOLIDAYS: New Year’s Day\, Memorial Day\, July 4th\, Labor Day\, Thanksgiving Day and Christmas Day – No Pickup.
URL:https://townofhancock.org/event/trash-pick-up-2/2024-01-10/
END:VEVENT
BEGIN:VEVENT
DTSTART;VALUE=DATE:20240103
DTEND;VALUE=DATE:20240104
DTSTAMP:20260419T112759
CREATED:20220913T204613Z
LAST-MODIFIED:20241227T170934Z
UID:10000166-1704240000-1704326399@townofhancock.org
SUMMARY:Recycling Co-Mingled
DESCRIPTION:Co-mingling Recycling\n\nConsists of a mixture of glass (all colors)\, plastics (#1 & #2)\, and common consumer metals such as aluminum and tin cans.
URL:https://townofhancock.org/event/recycling-pick-up/2024-01-03/
END:VEVENT
BEGIN:VEVENT
DTSTART;VALUE=DATE:20240103
DTEND;VALUE=DATE:20240104
DTSTAMP:20260419T112759
CREATED:20220913T204453Z
LAST-MODIFIED:20241227T173632Z
UID:10000489-1704240000-1704326399@townofhancock.org
SUMMARY:Trash Pick Up
DESCRIPTION:Trash/Recycling collection is weekly.  Your collection day is either Wednesday or Friday.  If you are unsure\, please call Burgmeier’s Trash Collection (800-491-8975). \nOBSERVED HOLIDAYS: New Year’s Day\, Memorial Day\, July 4th\, Labor Day\, Thanksgiving Day and Christmas Day – No Pickup.
URL:https://townofhancock.org/event/trash-pick-up-2/2024-01-03/
END:VEVENT
BEGIN:VEVENT
DTSTART;TZID=UTC:20240102T180000
DTEND;TZID=UTC:20240102T200000
DTSTAMP:20260419T112759
CREATED:20220913T204825Z
LAST-MODIFIED:20220913T204825Z
UID:10000279-1704218400-1704225600@townofhancock.org
SUMMARY:Planning Commission Meeting
DESCRIPTION:
URL:https://townofhancock.org/event/planning-commission-meeting/2024-01-02/
END:VEVENT
BEGIN:VEVENT
DTSTART;VALUE=DATE:20231227
DTEND;VALUE=DATE:20231228
DTSTAMP:20260419T112759
CREATED:20220913T204453Z
LAST-MODIFIED:20241227T173632Z
UID:10000035-1703635200-1703721599@townofhancock.org
SUMMARY:Trash Pick Up
DESCRIPTION:Trash/Recycling collection is weekly.  Your collection day is either Wednesday or Friday.  If you are unsure\, please call Burgmeier’s Trash Collection (800-491-8975). \nOBSERVED HOLIDAYS: New Year’s Day\, Memorial Day\, July 4th\, Labor Day\, Thanksgiving Day and Christmas Day – No Pickup.
URL:https://townofhancock.org/event/trash-pick-up-2/2023-12-27/
END:VEVENT
BEGIN:VEVENT
DTSTART;VALUE=DATE:20231220
DTEND;VALUE=DATE:20231221
DTSTAMP:20260419T112759
CREATED:20220913T204613Z
LAST-MODIFIED:20241227T170934Z
UID:10000165-1703030400-1703116799@townofhancock.org
SUMMARY:Recycling Co-Mingled
DESCRIPTION:Co-mingling Recycling\n\nConsists of a mixture of glass (all colors)\, plastics (#1 & #2)\, and common consumer metals such as aluminum and tin cans.
URL:https://townofhancock.org/event/recycling-pick-up/2023-12-20/
END:VEVENT
BEGIN:VEVENT
DTSTART;VALUE=DATE:20231220
DTEND;VALUE=DATE:20231221
DTSTAMP:20260419T112759
CREATED:20220913T204453Z
LAST-MODIFIED:20241227T173632Z
UID:10000488-1703030400-1703116799@townofhancock.org
SUMMARY:Trash Pick Up
DESCRIPTION:Trash/Recycling collection is weekly.  Your collection day is either Wednesday or Friday.  If you are unsure\, please call Burgmeier’s Trash Collection (800-491-8975). \nOBSERVED HOLIDAYS: New Year’s Day\, Memorial Day\, July 4th\, Labor Day\, Thanksgiving Day and Christmas Day – No Pickup.
URL:https://townofhancock.org/event/trash-pick-up-2/2023-12-20/
END:VEVENT
BEGIN:VEVENT
DTSTART;VALUE=DATE:20231213
DTEND;VALUE=DATE:20231214
DTSTAMP:20260419T112759
CREATED:20220913T204453Z
LAST-MODIFIED:20241227T173632Z
UID:10000034-1702425600-1702511999@townofhancock.org
SUMMARY:Trash Pick Up
DESCRIPTION:Trash/Recycling collection is weekly.  Your collection day is either Wednesday or Friday.  If you are unsure\, please call Burgmeier’s Trash Collection (800-491-8975). \nOBSERVED HOLIDAYS: New Year’s Day\, Memorial Day\, July 4th\, Labor Day\, Thanksgiving Day and Christmas Day – No Pickup.
URL:https://townofhancock.org/event/trash-pick-up-2/2023-12-13/
END:VEVENT
BEGIN:VEVENT
DTSTART;VALUE=DATE:20231206
DTEND;VALUE=DATE:20231207
DTSTAMP:20260419T112759
CREATED:20220913T204613Z
LAST-MODIFIED:20241227T170934Z
UID:10000164-1701820800-1701907199@townofhancock.org
SUMMARY:Recycling Co-Mingled
DESCRIPTION:Co-mingling Recycling\n\nConsists of a mixture of glass (all colors)\, plastics (#1 & #2)\, and common consumer metals such as aluminum and tin cans.
URL:https://townofhancock.org/event/recycling-pick-up/2023-12-06/
END:VEVENT
BEGIN:VEVENT
DTSTART;VALUE=DATE:20231206
DTEND;VALUE=DATE:20231207
DTSTAMP:20260419T112759
CREATED:20220913T204453Z
LAST-MODIFIED:20241227T173632Z
UID:10000487-1701820800-1701907199@townofhancock.org
SUMMARY:Trash Pick Up
DESCRIPTION:Trash/Recycling collection is weekly.  Your collection day is either Wednesday or Friday.  If you are unsure\, please call Burgmeier’s Trash Collection (800-491-8975). \nOBSERVED HOLIDAYS: New Year’s Day\, Memorial Day\, July 4th\, Labor Day\, Thanksgiving Day and Christmas Day – No Pickup.
URL:https://townofhancock.org/event/trash-pick-up-2/2023-12-06/
END:VEVENT
BEGIN:VEVENT
DTSTART;TZID=UTC:20231205T180000
DTEND;TZID=UTC:20231205T200000
DTSTAMP:20260419T112759
CREATED:20220913T204825Z
LAST-MODIFIED:20220913T204825Z
UID:10000278-1701799200-1701806400@townofhancock.org
SUMMARY:Planning Commission Meeting
DESCRIPTION:
URL:https://townofhancock.org/event/planning-commission-meeting/2023-12-05/
END:VEVENT
BEGIN:VEVENT
DTSTART;VALUE=DATE:20231129
DTEND;VALUE=DATE:20231130
DTSTAMP:20260419T112759
CREATED:20220913T204453Z
LAST-MODIFIED:20241227T173632Z
UID:10000033-1701216000-1701302399@townofhancock.org
SUMMARY:Trash Pick Up
DESCRIPTION:Trash/Recycling collection is weekly.  Your collection day is either Wednesday or Friday.  If you are unsure\, please call Burgmeier’s Trash Collection (800-491-8975). \nOBSERVED HOLIDAYS: New Year’s Day\, Memorial Day\, July 4th\, Labor Day\, Thanksgiving Day and Christmas Day – No Pickup.
URL:https://townofhancock.org/event/trash-pick-up-2/2023-11-29/
END:VEVENT
BEGIN:VEVENT
DTSTART;VALUE=DATE:20231122
DTEND;VALUE=DATE:20231123
DTSTAMP:20260419T112759
CREATED:20220913T204613Z
LAST-MODIFIED:20241227T170934Z
UID:10000163-1700611200-1700697599@townofhancock.org
SUMMARY:Recycling Co-Mingled
DESCRIPTION:Co-mingling Recycling\n\nConsists of a mixture of glass (all colors)\, plastics (#1 & #2)\, and common consumer metals such as aluminum and tin cans.
URL:https://townofhancock.org/event/recycling-pick-up/2023-11-22/
END:VEVENT
BEGIN:VEVENT
DTSTART;VALUE=DATE:20231122
DTEND;VALUE=DATE:20231123
DTSTAMP:20260419T112759
CREATED:20220913T204453Z
LAST-MODIFIED:20241227T173632Z
UID:10000486-1700611200-1700697599@townofhancock.org
SUMMARY:Trash Pick Up
DESCRIPTION:Trash/Recycling collection is weekly.  Your collection day is either Wednesday or Friday.  If you are unsure\, please call Burgmeier’s Trash Collection (800-491-8975). \nOBSERVED HOLIDAYS: New Year’s Day\, Memorial Day\, July 4th\, Labor Day\, Thanksgiving Day and Christmas Day – No Pickup.
URL:https://townofhancock.org/event/trash-pick-up-2/2023-11-22/
END:VEVENT
BEGIN:VEVENT
DTSTART;VALUE=DATE:20231115
DTEND;VALUE=DATE:20231116
DTSTAMP:20260419T112759
CREATED:20220913T204453Z
LAST-MODIFIED:20241227T173632Z
UID:10000032-1700006400-1700092799@townofhancock.org
SUMMARY:Trash Pick Up
DESCRIPTION:Trash/Recycling collection is weekly.  Your collection day is either Wednesday or Friday.  If you are unsure\, please call Burgmeier’s Trash Collection (800-491-8975). \nOBSERVED HOLIDAYS: New Year’s Day\, Memorial Day\, July 4th\, Labor Day\, Thanksgiving Day and Christmas Day – No Pickup.
URL:https://townofhancock.org/event/trash-pick-up-2/2023-11-15/
END:VEVENT
BEGIN:VEVENT
DTSTART;VALUE=DATE:20231108
DTEND;VALUE=DATE:20231109
DTSTAMP:20260419T112759
CREATED:20220913T204613Z
LAST-MODIFIED:20241227T170934Z
UID:10000162-1699401600-1699487999@townofhancock.org
SUMMARY:Recycling Co-Mingled
DESCRIPTION:Co-mingling Recycling\n\nConsists of a mixture of glass (all colors)\, plastics (#1 & #2)\, and common consumer metals such as aluminum and tin cans.
URL:https://townofhancock.org/event/recycling-pick-up/2023-11-08/
END:VEVENT
BEGIN:VEVENT
DTSTART;VALUE=DATE:20231108
DTEND;VALUE=DATE:20231109
DTSTAMP:20260419T112759
CREATED:20220913T204453Z
LAST-MODIFIED:20241227T173632Z
UID:10000485-1699401600-1699487999@townofhancock.org
SUMMARY:Trash Pick Up
DESCRIPTION:Trash/Recycling collection is weekly.  Your collection day is either Wednesday or Friday.  If you are unsure\, please call Burgmeier’s Trash Collection (800-491-8975). \nOBSERVED HOLIDAYS: New Year’s Day\, Memorial Day\, July 4th\, Labor Day\, Thanksgiving Day and Christmas Day – No Pickup.
URL:https://townofhancock.org/event/trash-pick-up-2/2023-11-08/
END:VEVENT
BEGIN:VEVENT
DTSTART;TZID=UTC:20231107T180000
DTEND;TZID=UTC:20231107T200000
DTSTAMP:20260419T112759
CREATED:20220913T204825Z
LAST-MODIFIED:20220913T204825Z
UID:10000277-1699380000-1699387200@townofhancock.org
SUMMARY:Planning Commission Meeting
DESCRIPTION:
URL:https://townofhancock.org/event/planning-commission-meeting/2023-11-07/
END:VEVENT
BEGIN:VEVENT
DTSTART;VALUE=DATE:20231101
DTEND;VALUE=DATE:20231102
DTSTAMP:20260419T112759
CREATED:20220913T204453Z
LAST-MODIFIED:20241227T173632Z
UID:10000031-1698796800-1698883199@townofhancock.org
SUMMARY:Trash Pick Up
DESCRIPTION:Trash/Recycling collection is weekly.  Your collection day is either Wednesday or Friday.  If you are unsure\, please call Burgmeier’s Trash Collection (800-491-8975). \nOBSERVED HOLIDAYS: New Year’s Day\, Memorial Day\, July 4th\, Labor Day\, Thanksgiving Day and Christmas Day – No Pickup.
URL:https://townofhancock.org/event/trash-pick-up-2/2023-11-01/
END:VEVENT
BEGIN:VEVENT
DTSTART;VALUE=DATE:20231025
DTEND;VALUE=DATE:20231026
DTSTAMP:20260419T112759
CREATED:20220913T204613Z
LAST-MODIFIED:20241227T170934Z
UID:10000161-1698192000-1698278399@townofhancock.org
SUMMARY:Recycling Co-Mingled
DESCRIPTION:Co-mingling Recycling\n\nConsists of a mixture of glass (all colors)\, plastics (#1 & #2)\, and common consumer metals such as aluminum and tin cans.
URL:https://townofhancock.org/event/recycling-pick-up/2023-10-25/
END:VEVENT
BEGIN:VEVENT
DTSTART;VALUE=DATE:20231025
DTEND;VALUE=DATE:20231026
DTSTAMP:20260419T112759
CREATED:20220913T204453Z
LAST-MODIFIED:20241227T173632Z
UID:10000484-1698192000-1698278399@townofhancock.org
SUMMARY:Trash Pick Up
DESCRIPTION:Trash/Recycling collection is weekly.  Your collection day is either Wednesday or Friday.  If you are unsure\, please call Burgmeier’s Trash Collection (800-491-8975). \nOBSERVED HOLIDAYS: New Year’s Day\, Memorial Day\, July 4th\, Labor Day\, Thanksgiving Day and Christmas Day – No Pickup.
URL:https://townofhancock.org/event/trash-pick-up-2/2023-10-25/
END:VEVENT
BEGIN:VEVENT
DTSTART;VALUE=DATE:20231018
DTEND;VALUE=DATE:20231019
DTSTAMP:20260419T112759
CREATED:20220913T204453Z
LAST-MODIFIED:20241227T173632Z
UID:10000030-1697587200-1697673599@townofhancock.org
SUMMARY:Trash Pick Up
DESCRIPTION:Trash/Recycling collection is weekly.  Your collection day is either Wednesday or Friday.  If you are unsure\, please call Burgmeier’s Trash Collection (800-491-8975). \nOBSERVED HOLIDAYS: New Year’s Day\, Memorial Day\, July 4th\, Labor Day\, Thanksgiving Day and Christmas Day – No Pickup.
URL:https://townofhancock.org/event/trash-pick-up-2/2023-10-18/
END:VEVENT
BEGIN:VEVENT
DTSTART;VALUE=DATE:20231011
DTEND;VALUE=DATE:20231012
DTSTAMP:20260419T112759
CREATED:20220913T204613Z
LAST-MODIFIED:20241227T170934Z
UID:10000160-1696982400-1697068799@townofhancock.org
SUMMARY:Recycling Co-Mingled
DESCRIPTION:Co-mingling Recycling\n\nConsists of a mixture of glass (all colors)\, plastics (#1 & #2)\, and common consumer metals such as aluminum and tin cans.
URL:https://townofhancock.org/event/recycling-pick-up/2023-10-11/
END:VEVENT
BEGIN:VEVENT
DTSTART;VALUE=DATE:20231011
DTEND;VALUE=DATE:20231012
DTSTAMP:20260419T112759
CREATED:20220913T204453Z
LAST-MODIFIED:20241227T173632Z
UID:10000483-1696982400-1697068799@townofhancock.org
SUMMARY:Trash Pick Up
DESCRIPTION:Trash/Recycling collection is weekly.  Your collection day is either Wednesday or Friday.  If you are unsure\, please call Burgmeier’s Trash Collection (800-491-8975). \nOBSERVED HOLIDAYS: New Year’s Day\, Memorial Day\, July 4th\, Labor Day\, Thanksgiving Day and Christmas Day – No Pickup.
URL:https://townofhancock.org/event/trash-pick-up-2/2023-10-11/
END:VEVENT
BEGIN:VEVENT
DTSTART;VALUE=DATE:20231004
DTEND;VALUE=DATE:20231005
DTSTAMP:20260419T112759
CREATED:20220913T204453Z
LAST-MODIFIED:20241227T173632Z
UID:10000029-1696377600-1696463999@townofhancock.org
SUMMARY:Trash Pick Up
DESCRIPTION:Trash/Recycling collection is weekly.  Your collection day is either Wednesday or Friday.  If you are unsure\, please call Burgmeier’s Trash Collection (800-491-8975). \nOBSERVED HOLIDAYS: New Year’s Day\, Memorial Day\, July 4th\, Labor Day\, Thanksgiving Day and Christmas Day – No Pickup.
URL:https://townofhancock.org/event/trash-pick-up-2/2023-10-04/
END:VEVENT
BEGIN:VEVENT
DTSTART;TZID=UTC:20231003T180000
DTEND;TZID=UTC:20231003T200000
DTSTAMP:20260419T112759
CREATED:20220913T204825Z
LAST-MODIFIED:20220913T204825Z
UID:10000276-1696356000-1696363200@townofhancock.org
SUMMARY:Planning Commission Meeting
DESCRIPTION:
URL:https://townofhancock.org/event/planning-commission-meeting/2023-10-03/
END:VEVENT
BEGIN:VEVENT
DTSTART;VALUE=DATE:20230927
DTEND;VALUE=DATE:20230928
DTSTAMP:20260419T112759
CREATED:20220913T204613Z
LAST-MODIFIED:20241227T170934Z
UID:10000159-1695772800-1695859199@townofhancock.org
SUMMARY:Recycling Co-Mingled
DESCRIPTION:Co-mingling Recycling\n\nConsists of a mixture of glass (all colors)\, plastics (#1 & #2)\, and common consumer metals such as aluminum and tin cans.
URL:https://townofhancock.org/event/recycling-pick-up/2023-09-27/
END:VEVENT
END:VCALENDAR