BEGIN:VCALENDAR
VERSION:2.0
PRODID:-//Town of Hancock - ECPv6.15.20//NONSGML v1.0//EN
CALSCALE:GREGORIAN
METHOD:PUBLISH
X-ORIGINAL-URL:https://townofhancock.org
X-WR-CALDESC:Events for Town of Hancock
REFRESH-INTERVAL;VALUE=DURATION:PT1H
X-Robots-Tag:noindex
X-PUBLISHED-TTL:PT1H
BEGIN:VTIMEZONE
TZID:America/New_York
BEGIN:DAYLIGHT
TZOFFSETFROM:-0500
TZOFFSETTO:-0400
TZNAME:EDT
DTSTART:20270314T070000
END:DAYLIGHT
BEGIN:STANDARD
TZOFFSETFROM:-0400
TZOFFSETTO:-0500
TZNAME:EST
DTSTART:20271107T060000
END:STANDARD
BEGIN:DAYLIGHT
TZOFFSETFROM:-0500
TZOFFSETTO:-0400
TZNAME:EDT
DTSTART:20280312T070000
END:DAYLIGHT
BEGIN:STANDARD
TZOFFSETFROM:-0400
TZOFFSETTO:-0500
TZNAME:EST
DTSTART:20281105T060000
END:STANDARD
BEGIN:DAYLIGHT
TZOFFSETFROM:-0500
TZOFFSETTO:-0400
TZNAME:EDT
DTSTART:20290311T070000
END:DAYLIGHT
BEGIN:STANDARD
TZOFFSETFROM:-0400
TZOFFSETTO:-0500
TZNAME:EST
DTSTART:20291104T060000
END:STANDARD
BEGIN:DAYLIGHT
TZOFFSETFROM:-0500
TZOFFSETTO:-0400
TZNAME:EDT
DTSTART:20300310T070000
END:DAYLIGHT
BEGIN:STANDARD
TZOFFSETFROM:-0400
TZOFFSETTO:-0500
TZNAME:EST
DTSTART:20301103T060000
END:STANDARD
END:VTIMEZONE
BEGIN:VEVENT
DTSTART;TZID=America/New_York:20280509T190000
DTEND;TZID=America/New_York:20280509T203000
DTSTAMP:20260419T093807
CREATED:20241227T162051Z
LAST-MODIFIED:20241227T162956Z
UID:10000366-1841511600-1841517000@townofhancock.org
SUMMARY:Mayor & Council Meeting
DESCRIPTION:The Mayor and Council hold a monthly town meeting on the 2nd Tuesday of each month.  These meetings are held in the big meeting room at 126 W. High St. and are always open to the public.  Each meeting features a public comment period where individuals may address the Mayor and Council about town-related matters.  Generally speaking\, individual comments are limited to 5 minutes.  The Mayor reserves the right to change this limit based on the nature of the commentary or to conduct the business of the Council.
URL:https://townofhancock.org/event/mayor-council-meeting/2028-05-09/
LOCATION:Community Center\, 126 W. High St.\, Hancock\, MD 21750\, Hancock\, MD\, 21750\, United States
ORGANIZER;CN="Town of Hancock":MAILTO:info@townofhancock.org
END:VEVENT
BEGIN:VEVENT
DTSTART;TZID=America/New_York:20280613T190000
DTEND;TZID=America/New_York:20280613T203000
DTSTAMP:20260419T093807
CREATED:20241227T162051Z
LAST-MODIFIED:20241227T162956Z
UID:10000367-1844535600-1844541000@townofhancock.org
SUMMARY:Mayor & Council Meeting
DESCRIPTION:The Mayor and Council hold a monthly town meeting on the 2nd Tuesday of each month.  These meetings are held in the big meeting room at 126 W. High St. and are always open to the public.  Each meeting features a public comment period where individuals may address the Mayor and Council about town-related matters.  Generally speaking\, individual comments are limited to 5 minutes.  The Mayor reserves the right to change this limit based on the nature of the commentary or to conduct the business of the Council.
URL:https://townofhancock.org/event/mayor-council-meeting/2028-06-13/
LOCATION:Community Center\, 126 W. High St.\, Hancock\, MD 21750\, Hancock\, MD\, 21750\, United States
ORGANIZER;CN="Town of Hancock":MAILTO:info@townofhancock.org
END:VEVENT
BEGIN:VEVENT
DTSTART;TZID=America/New_York:20280711T190000
DTEND;TZID=America/New_York:20280711T203000
DTSTAMP:20260419T093807
CREATED:20241227T162051Z
LAST-MODIFIED:20241227T162956Z
UID:10000368-1846954800-1846960200@townofhancock.org
SUMMARY:Mayor & Council Meeting
DESCRIPTION:The Mayor and Council hold a monthly town meeting on the 2nd Tuesday of each month.  These meetings are held in the big meeting room at 126 W. High St. and are always open to the public.  Each meeting features a public comment period where individuals may address the Mayor and Council about town-related matters.  Generally speaking\, individual comments are limited to 5 minutes.  The Mayor reserves the right to change this limit based on the nature of the commentary or to conduct the business of the Council.
URL:https://townofhancock.org/event/mayor-council-meeting/2028-07-11/
LOCATION:Community Center\, 126 W. High St.\, Hancock\, MD 21750\, Hancock\, MD\, 21750\, United States
ORGANIZER;CN="Town of Hancock":MAILTO:info@townofhancock.org
END:VEVENT
BEGIN:VEVENT
DTSTART;TZID=America/New_York:20280808T190000
DTEND;TZID=America/New_York:20280808T203000
DTSTAMP:20260419T093807
CREATED:20241227T162051Z
LAST-MODIFIED:20241227T162956Z
UID:10000369-1849374000-1849379400@townofhancock.org
SUMMARY:Mayor & Council Meeting
DESCRIPTION:The Mayor and Council hold a monthly town meeting on the 2nd Tuesday of each month.  These meetings are held in the big meeting room at 126 W. High St. and are always open to the public.  Each meeting features a public comment period where individuals may address the Mayor and Council about town-related matters.  Generally speaking\, individual comments are limited to 5 minutes.  The Mayor reserves the right to change this limit based on the nature of the commentary or to conduct the business of the Council.
URL:https://townofhancock.org/event/mayor-council-meeting/2028-08-08/
LOCATION:Community Center\, 126 W. High St.\, Hancock\, MD 21750\, Hancock\, MD\, 21750\, United States
ORGANIZER;CN="Town of Hancock":MAILTO:info@townofhancock.org
END:VEVENT
BEGIN:VEVENT
DTSTART;TZID=America/New_York:20280912T190000
DTEND;TZID=America/New_York:20280912T203000
DTSTAMP:20260419T093807
CREATED:20241227T162051Z
LAST-MODIFIED:20241227T162956Z
UID:10000370-1852398000-1852403400@townofhancock.org
SUMMARY:Mayor & Council Meeting
DESCRIPTION:The Mayor and Council hold a monthly town meeting on the 2nd Tuesday of each month.  These meetings are held in the big meeting room at 126 W. High St. and are always open to the public.  Each meeting features a public comment period where individuals may address the Mayor and Council about town-related matters.  Generally speaking\, individual comments are limited to 5 minutes.  The Mayor reserves the right to change this limit based on the nature of the commentary or to conduct the business of the Council.
URL:https://townofhancock.org/event/mayor-council-meeting/2028-09-12/
LOCATION:Community Center\, 126 W. High St.\, Hancock\, MD 21750\, Hancock\, MD\, 21750\, United States
ORGANIZER;CN="Town of Hancock":MAILTO:info@townofhancock.org
END:VEVENT
BEGIN:VEVENT
DTSTART;TZID=America/New_York:20281010T190000
DTEND;TZID=America/New_York:20281010T203000
DTSTAMP:20260419T093807
CREATED:20241227T162051Z
LAST-MODIFIED:20241227T162956Z
UID:10000371-1854817200-1854822600@townofhancock.org
SUMMARY:Mayor & Council Meeting
DESCRIPTION:The Mayor and Council hold a monthly town meeting on the 2nd Tuesday of each month.  These meetings are held in the big meeting room at 126 W. High St. and are always open to the public.  Each meeting features a public comment period where individuals may address the Mayor and Council about town-related matters.  Generally speaking\, individual comments are limited to 5 minutes.  The Mayor reserves the right to change this limit based on the nature of the commentary or to conduct the business of the Council.
URL:https://townofhancock.org/event/mayor-council-meeting/2028-10-10/
LOCATION:Community Center\, 126 W. High St.\, Hancock\, MD 21750\, Hancock\, MD\, 21750\, United States
ORGANIZER;CN="Town of Hancock":MAILTO:info@townofhancock.org
END:VEVENT
BEGIN:VEVENT
DTSTART;TZID=America/New_York:20281114T190000
DTEND;TZID=America/New_York:20281114T203000
DTSTAMP:20260419T093807
CREATED:20241227T162051Z
LAST-MODIFIED:20241227T162956Z
UID:10000372-1857841200-1857846600@townofhancock.org
SUMMARY:Mayor & Council Meeting
DESCRIPTION:The Mayor and Council hold a monthly town meeting on the 2nd Tuesday of each month.  These meetings are held in the big meeting room at 126 W. High St. and are always open to the public.  Each meeting features a public comment period where individuals may address the Mayor and Council about town-related matters.  Generally speaking\, individual comments are limited to 5 minutes.  The Mayor reserves the right to change this limit based on the nature of the commentary or to conduct the business of the Council.
URL:https://townofhancock.org/event/mayor-council-meeting/2028-11-14/
LOCATION:Community Center\, 126 W. High St.\, Hancock\, MD 21750\, Hancock\, MD\, 21750\, United States
ORGANIZER;CN="Town of Hancock":MAILTO:info@townofhancock.org
END:VEVENT
BEGIN:VEVENT
DTSTART;TZID=America/New_York:20281212T190000
DTEND;TZID=America/New_York:20281212T203000
DTSTAMP:20260419T093807
CREATED:20241227T162051Z
LAST-MODIFIED:20241227T162956Z
UID:10000373-1860260400-1860265800@townofhancock.org
SUMMARY:Mayor & Council Meeting
DESCRIPTION:The Mayor and Council hold a monthly town meeting on the 2nd Tuesday of each month.  These meetings are held in the big meeting room at 126 W. High St. and are always open to the public.  Each meeting features a public comment period where individuals may address the Mayor and Council about town-related matters.  Generally speaking\, individual comments are limited to 5 minutes.  The Mayor reserves the right to change this limit based on the nature of the commentary or to conduct the business of the Council.
URL:https://townofhancock.org/event/mayor-council-meeting/2028-12-12/
LOCATION:Community Center\, 126 W. High St.\, Hancock\, MD 21750\, Hancock\, MD\, 21750\, United States
ORGANIZER;CN="Town of Hancock":MAILTO:info@townofhancock.org
END:VEVENT
BEGIN:VEVENT
DTSTART;TZID=America/New_York:20290109T190000
DTEND;TZID=America/New_York:20290109T203000
DTSTAMP:20260419T093807
CREATED:20241227T162051Z
LAST-MODIFIED:20241227T162956Z
UID:10000374-1862679600-1862685000@townofhancock.org
SUMMARY:Mayor & Council Meeting
DESCRIPTION:The Mayor and Council hold a monthly town meeting on the 2nd Tuesday of each month.  These meetings are held in the big meeting room at 126 W. High St. and are always open to the public.  Each meeting features a public comment period where individuals may address the Mayor and Council about town-related matters.  Generally speaking\, individual comments are limited to 5 minutes.  The Mayor reserves the right to change this limit based on the nature of the commentary or to conduct the business of the Council.
URL:https://townofhancock.org/event/mayor-council-meeting/2029-01-09/
LOCATION:Community Center\, 126 W. High St.\, Hancock\, MD 21750\, Hancock\, MD\, 21750\, United States
ORGANIZER;CN="Town of Hancock":MAILTO:info@townofhancock.org
END:VEVENT
BEGIN:VEVENT
DTSTART;TZID=America/New_York:20290213T190000
DTEND;TZID=America/New_York:20290213T203000
DTSTAMP:20260419T093807
CREATED:20241227T162051Z
LAST-MODIFIED:20241227T162956Z
UID:10000375-1865703600-1865709000@townofhancock.org
SUMMARY:Mayor & Council Meeting
DESCRIPTION:The Mayor and Council hold a monthly town meeting on the 2nd Tuesday of each month.  These meetings are held in the big meeting room at 126 W. High St. and are always open to the public.  Each meeting features a public comment period where individuals may address the Mayor and Council about town-related matters.  Generally speaking\, individual comments are limited to 5 minutes.  The Mayor reserves the right to change this limit based on the nature of the commentary or to conduct the business of the Council.
URL:https://townofhancock.org/event/mayor-council-meeting/2029-02-13/
LOCATION:Community Center\, 126 W. High St.\, Hancock\, MD 21750\, Hancock\, MD\, 21750\, United States
ORGANIZER;CN="Town of Hancock":MAILTO:info@townofhancock.org
END:VEVENT
BEGIN:VEVENT
DTSTART;TZID=America/New_York:20290313T190000
DTEND;TZID=America/New_York:20290313T203000
DTSTAMP:20260419T093807
CREATED:20241227T162051Z
LAST-MODIFIED:20241227T162956Z
UID:10000376-1868122800-1868128200@townofhancock.org
SUMMARY:Mayor & Council Meeting
DESCRIPTION:The Mayor and Council hold a monthly town meeting on the 2nd Tuesday of each month.  These meetings are held in the big meeting room at 126 W. High St. and are always open to the public.  Each meeting features a public comment period where individuals may address the Mayor and Council about town-related matters.  Generally speaking\, individual comments are limited to 5 minutes.  The Mayor reserves the right to change this limit based on the nature of the commentary or to conduct the business of the Council.
URL:https://townofhancock.org/event/mayor-council-meeting/2029-03-13/
LOCATION:Community Center\, 126 W. High St.\, Hancock\, MD 21750\, Hancock\, MD\, 21750\, United States
ORGANIZER;CN="Town of Hancock":MAILTO:info@townofhancock.org
END:VEVENT
BEGIN:VEVENT
DTSTART;TZID=America/New_York:20290410T190000
DTEND;TZID=America/New_York:20290410T203000
DTSTAMP:20260419T093807
CREATED:20241227T162051Z
LAST-MODIFIED:20241227T162956Z
UID:10000377-1870542000-1870547400@townofhancock.org
SUMMARY:Mayor & Council Meeting
DESCRIPTION:The Mayor and Council hold a monthly town meeting on the 2nd Tuesday of each month.  These meetings are held in the big meeting room at 126 W. High St. and are always open to the public.  Each meeting features a public comment period where individuals may address the Mayor and Council about town-related matters.  Generally speaking\, individual comments are limited to 5 minutes.  The Mayor reserves the right to change this limit based on the nature of the commentary or to conduct the business of the Council.
URL:https://townofhancock.org/event/mayor-council-meeting/2029-04-10/
LOCATION:Community Center\, 126 W. High St.\, Hancock\, MD 21750\, Hancock\, MD\, 21750\, United States
ORGANIZER;CN="Town of Hancock":MAILTO:info@townofhancock.org
END:VEVENT
BEGIN:VEVENT
DTSTART;TZID=America/New_York:20290508T190000
DTEND;TZID=America/New_York:20290508T203000
DTSTAMP:20260419T093807
CREATED:20241227T162051Z
LAST-MODIFIED:20241227T162956Z
UID:10000378-1872961200-1872966600@townofhancock.org
SUMMARY:Mayor & Council Meeting
DESCRIPTION:The Mayor and Council hold a monthly town meeting on the 2nd Tuesday of each month.  These meetings are held in the big meeting room at 126 W. High St. and are always open to the public.  Each meeting features a public comment period where individuals may address the Mayor and Council about town-related matters.  Generally speaking\, individual comments are limited to 5 minutes.  The Mayor reserves the right to change this limit based on the nature of the commentary or to conduct the business of the Council.
URL:https://townofhancock.org/event/mayor-council-meeting/2029-05-08/
LOCATION:Community Center\, 126 W. High St.\, Hancock\, MD 21750\, Hancock\, MD\, 21750\, United States
ORGANIZER;CN="Town of Hancock":MAILTO:info@townofhancock.org
END:VEVENT
BEGIN:VEVENT
DTSTART;TZID=America/New_York:20290612T190000
DTEND;TZID=America/New_York:20290612T203000
DTSTAMP:20260419T093807
CREATED:20241227T162051Z
LAST-MODIFIED:20241227T162956Z
UID:10000379-1875985200-1875990600@townofhancock.org
SUMMARY:Mayor & Council Meeting
DESCRIPTION:The Mayor and Council hold a monthly town meeting on the 2nd Tuesday of each month.  These meetings are held in the big meeting room at 126 W. High St. and are always open to the public.  Each meeting features a public comment period where individuals may address the Mayor and Council about town-related matters.  Generally speaking\, individual comments are limited to 5 minutes.  The Mayor reserves the right to change this limit based on the nature of the commentary or to conduct the business of the Council.
URL:https://townofhancock.org/event/mayor-council-meeting/2029-06-12/
LOCATION:Community Center\, 126 W. High St.\, Hancock\, MD 21750\, Hancock\, MD\, 21750\, United States
ORGANIZER;CN="Town of Hancock":MAILTO:info@townofhancock.org
END:VEVENT
BEGIN:VEVENT
DTSTART;TZID=America/New_York:20290710T190000
DTEND;TZID=America/New_York:20290710T203000
DTSTAMP:20260419T093807
CREATED:20241227T162051Z
LAST-MODIFIED:20241227T162956Z
UID:10000380-1878404400-1878409800@townofhancock.org
SUMMARY:Mayor & Council Meeting
DESCRIPTION:The Mayor and Council hold a monthly town meeting on the 2nd Tuesday of each month.  These meetings are held in the big meeting room at 126 W. High St. and are always open to the public.  Each meeting features a public comment period where individuals may address the Mayor and Council about town-related matters.  Generally speaking\, individual comments are limited to 5 minutes.  The Mayor reserves the right to change this limit based on the nature of the commentary or to conduct the business of the Council.
URL:https://townofhancock.org/event/mayor-council-meeting/2029-07-10/
LOCATION:Community Center\, 126 W. High St.\, Hancock\, MD 21750\, Hancock\, MD\, 21750\, United States
ORGANIZER;CN="Town of Hancock":MAILTO:info@townofhancock.org
END:VEVENT
BEGIN:VEVENT
DTSTART;TZID=America/New_York:20290814T190000
DTEND;TZID=America/New_York:20290814T203000
DTSTAMP:20260419T093807
CREATED:20241227T162051Z
LAST-MODIFIED:20241227T162956Z
UID:10000381-1881428400-1881433800@townofhancock.org
SUMMARY:Mayor & Council Meeting
DESCRIPTION:The Mayor and Council hold a monthly town meeting on the 2nd Tuesday of each month.  These meetings are held in the big meeting room at 126 W. High St. and are always open to the public.  Each meeting features a public comment period where individuals may address the Mayor and Council about town-related matters.  Generally speaking\, individual comments are limited to 5 minutes.  The Mayor reserves the right to change this limit based on the nature of the commentary or to conduct the business of the Council.
URL:https://townofhancock.org/event/mayor-council-meeting/2029-08-14/
LOCATION:Community Center\, 126 W. High St.\, Hancock\, MD 21750\, Hancock\, MD\, 21750\, United States
ORGANIZER;CN="Town of Hancock":MAILTO:info@townofhancock.org
END:VEVENT
BEGIN:VEVENT
DTSTART;TZID=America/New_York:20290911T190000
DTEND;TZID=America/New_York:20290911T203000
DTSTAMP:20260419T093807
CREATED:20241227T162051Z
LAST-MODIFIED:20241227T162956Z
UID:10000382-1883847600-1883853000@townofhancock.org
SUMMARY:Mayor & Council Meeting
DESCRIPTION:The Mayor and Council hold a monthly town meeting on the 2nd Tuesday of each month.  These meetings are held in the big meeting room at 126 W. High St. and are always open to the public.  Each meeting features a public comment period where individuals may address the Mayor and Council about town-related matters.  Generally speaking\, individual comments are limited to 5 minutes.  The Mayor reserves the right to change this limit based on the nature of the commentary or to conduct the business of the Council.
URL:https://townofhancock.org/event/mayor-council-meeting/2029-09-11/
LOCATION:Community Center\, 126 W. High St.\, Hancock\, MD 21750\, Hancock\, MD\, 21750\, United States
ORGANIZER;CN="Town of Hancock":MAILTO:info@townofhancock.org
END:VEVENT
BEGIN:VEVENT
DTSTART;TZID=America/New_York:20291009T190000
DTEND;TZID=America/New_York:20291009T203000
DTSTAMP:20260419T093807
CREATED:20241227T162051Z
LAST-MODIFIED:20241227T162956Z
UID:10000383-1886266800-1886272200@townofhancock.org
SUMMARY:Mayor & Council Meeting
DESCRIPTION:The Mayor and Council hold a monthly town meeting on the 2nd Tuesday of each month.  These meetings are held in the big meeting room at 126 W. High St. and are always open to the public.  Each meeting features a public comment period where individuals may address the Mayor and Council about town-related matters.  Generally speaking\, individual comments are limited to 5 minutes.  The Mayor reserves the right to change this limit based on the nature of the commentary or to conduct the business of the Council.
URL:https://townofhancock.org/event/mayor-council-meeting/2029-10-09/
LOCATION:Community Center\, 126 W. High St.\, Hancock\, MD 21750\, Hancock\, MD\, 21750\, United States
ORGANIZER;CN="Town of Hancock":MAILTO:info@townofhancock.org
END:VEVENT
BEGIN:VEVENT
DTSTART;TZID=America/New_York:20291113T190000
DTEND;TZID=America/New_York:20291113T203000
DTSTAMP:20260419T093807
CREATED:20241227T162051Z
LAST-MODIFIED:20241227T162956Z
UID:10000384-1889290800-1889296200@townofhancock.org
SUMMARY:Mayor & Council Meeting
DESCRIPTION:The Mayor and Council hold a monthly town meeting on the 2nd Tuesday of each month.  These meetings are held in the big meeting room at 126 W. High St. and are always open to the public.  Each meeting features a public comment period where individuals may address the Mayor and Council about town-related matters.  Generally speaking\, individual comments are limited to 5 minutes.  The Mayor reserves the right to change this limit based on the nature of the commentary or to conduct the business of the Council.
URL:https://townofhancock.org/event/mayor-council-meeting/2029-11-13/
LOCATION:Community Center\, 126 W. High St.\, Hancock\, MD 21750\, Hancock\, MD\, 21750\, United States
ORGANIZER;CN="Town of Hancock":MAILTO:info@townofhancock.org
END:VEVENT
BEGIN:VEVENT
DTSTART;TZID=America/New_York:20291211T190000
DTEND;TZID=America/New_York:20291211T203000
DTSTAMP:20260419T093807
CREATED:20241227T162051Z
LAST-MODIFIED:20241227T162956Z
UID:10000385-1891710000-1891715400@townofhancock.org
SUMMARY:Mayor & Council Meeting
DESCRIPTION:The Mayor and Council hold a monthly town meeting on the 2nd Tuesday of each month.  These meetings are held in the big meeting room at 126 W. High St. and are always open to the public.  Each meeting features a public comment period where individuals may address the Mayor and Council about town-related matters.  Generally speaking\, individual comments are limited to 5 minutes.  The Mayor reserves the right to change this limit based on the nature of the commentary or to conduct the business of the Council.
URL:https://townofhancock.org/event/mayor-council-meeting/2029-12-11/
LOCATION:Community Center\, 126 W. High St.\, Hancock\, MD 21750\, Hancock\, MD\, 21750\, United States
ORGANIZER;CN="Town of Hancock":MAILTO:info@townofhancock.org
END:VEVENT
END:VCALENDAR